BEGIN:VCALENDAR
VERSION:2.0
PRODID:-//Harmony Center Sequim - ECPv6.15.20//NONSGML v1.0//EN
CALSCALE:GREGORIAN
METHOD:PUBLISH
X-WR-CALNAME:Harmony Center Sequim
X-ORIGINAL-URL:https://harmonycentersequim.org
X-WR-CALDESC:Events for Harmony Center Sequim
REFRESH-INTERVAL;VALUE=DURATION:PT1H
X-Robots-Tag:noindex
X-PUBLISHED-TTL:PT1H
BEGIN:VTIMEZONE
TZID:America/Los_Angeles
BEGIN:DAYLIGHT
TZOFFSETFROM:-0800
TZOFFSETTO:-0700
TZNAME:PDT
DTSTART:20230312T100000
END:DAYLIGHT
BEGIN:STANDARD
TZOFFSETFROM:-0700
TZOFFSETTO:-0800
TZNAME:PST
DTSTART:20231105T090000
END:STANDARD
BEGIN:DAYLIGHT
TZOFFSETFROM:-0800
TZOFFSETTO:-0700
TZNAME:PDT
DTSTART:20240310T100000
END:DAYLIGHT
BEGIN:STANDARD
TZOFFSETFROM:-0700
TZOFFSETTO:-0800
TZNAME:PST
DTSTART:20241103T090000
END:STANDARD
BEGIN:DAYLIGHT
TZOFFSETFROM:-0800
TZOFFSETTO:-0700
TZNAME:PDT
DTSTART:20250309T100000
END:DAYLIGHT
BEGIN:STANDARD
TZOFFSETFROM:-0700
TZOFFSETTO:-0800
TZNAME:PST
DTSTART:20251102T090000
END:STANDARD
BEGIN:DAYLIGHT
TZOFFSETFROM:-0800
TZOFFSETTO:-0700
TZNAME:PDT
DTSTART:20260308T100000
END:DAYLIGHT
BEGIN:STANDARD
TZOFFSETFROM:-0700
TZOFFSETTO:-0800
TZNAME:PST
DTSTART:20261101T090000
END:STANDARD
END:VTIMEZONE
BEGIN:VEVENT
DTSTART;TZID=America/Los_Angeles:20250520T100000
DTEND;TZID=America/Los_Angeles:20250520T120000
DTSTAMP:20260419T181411
CREATED:20250425T190446Z
LAST-MODIFIED:20250425T190446Z
UID:10009366-1747735200-1747742400@harmonycentersequim.org
SUMMARY:Ethels playing games
DESCRIPTION:A private group of Ethels (10-15) will be playing games.
URL:https://harmonycentersequim.org/event/ethels-playing-games/
LOCATION:Harmony Center Sequim\, 223 Hudon Rd\, Sequim\, WA\, 98382\, United States
ORGANIZER;CN="Harmony Center of Sequim":MAILTO:cassandra@joyfulharmony.org
END:VEVENT
BEGIN:VEVENT
DTSTART;TZID=America/Los_Angeles:20241130T120000
DTEND;TZID=America/Los_Angeles:20241130T160000
DTSTAMP:20260419T181411
CREATED:20241028T232653Z
LAST-MODIFIED:20241028T232653Z
UID:10007780-1732968000-1732982400@harmonycentersequim.org
SUMMARY:Ethels Friends Thanksgiving
DESCRIPTION:This is an Ethels event.  To attend you must be a woman over fifty and a member of  The Ethel Gathering Group: OlyPen and Kitsap (WA) \nPlease sign up on the Ethels Facebook Page through the link above. \n12 – 4 pm
URL:https://harmonycentersequim.org/event/ethels-friends-thanksgiving/
LOCATION:Harmony Center Sequim\, 223 Hudon Rd\, Sequim\, WA\, 98382\, United States
ATTACH;FMTTYPE=image/jpeg:https://harmonycentersequim.org/wp-content/uploads/2024/10/the-ethels-gathering-group.jpg
ORGANIZER;CN="The Ethels Group of Olympic Peninsula":MAILTO:ellen@ellenkaminsky.com
END:VEVENT
BEGIN:VEVENT
DTSTART;TZID=America/Los_Angeles:20241125T120000
DTEND;TZID=America/Los_Angeles:20241125T150000
DTSTAMP:20260419T181411
CREATED:20241028T231524Z
LAST-MODIFIED:20241028T231524Z
UID:10007719-1732536000-1732546800@harmonycentersequim.org
SUMMARY:Ethels Game Time
DESCRIPTION:Join the Ethels to play games and meet new people.  To attend you must be a woman over fifty and a member of The Ethel Gathering Group. \nRSVP through the Ethels Facebook Page: https://www.facebook.com/groups/ethelgatheringolypenkitsap
URL:https://harmonycentersequim.org/event/ethels-game-time/2024-11-25/
LOCATION:Harmony Center Sequim\, 223 Hudon Rd\, Sequim\, WA\, 98382\, United States
ATTACH;FMTTYPE=image/jpeg:https://harmonycentersequim.org/wp-content/uploads/2024/10/the-ethels-gathering-group.jpg
ORGANIZER;CN="The Ethels Group of Olympic Peninsula":MAILTO:ellen@ellenkaminsky.com
END:VEVENT
BEGIN:VEVENT
DTSTART;TZID=America/Los_Angeles:20241105T120000
DTEND;TZID=America/Los_Angeles:20241105T150000
DTSTAMP:20260419T181411
CREATED:20241028T231524Z
LAST-MODIFIED:20241028T231524Z
UID:10007718-1730808000-1730818800@harmonycentersequim.org
SUMMARY:Ethels Game Time
DESCRIPTION:Join the Ethels to play games and meet new people.  To attend you must be a woman over fifty and a member of The Ethel Gathering Group. \nRSVP through the Ethels Facebook Page: https://www.facebook.com/groups/ethelgatheringolypenkitsap
URL:https://harmonycentersequim.org/event/ethels-game-time/2024-11-05/
LOCATION:Harmony Center Sequim\, 223 Hudon Rd\, Sequim\, WA\, 98382\, United States
ATTACH;FMTTYPE=image/jpeg:https://harmonycentersequim.org/wp-content/uploads/2024/10/the-ethels-gathering-group.jpg
ORGANIZER;CN="The Ethels Group of Olympic Peninsula":MAILTO:ellen@ellenkaminsky.com
END:VEVENT
BEGIN:VEVENT
DTSTART;TZID=America/Los_Angeles:20240723T110000
DTEND;TZID=America/Los_Angeles:20240723T140000
DTSTAMP:20260419T181411
CREATED:20240709T012005Z
LAST-MODIFIED:20240709T012005Z
UID:10006972-1721732400-1721743200@harmonycentersequim.org
SUMMARY:Lavender Wand Workshop
DESCRIPTION:It’s Lavender Season in Sequim so let’s celebrate!  Originating in the Victorian era\, Lavender wands were an easy and decorative craft made by weaving ribbons around lavender stems to enclose the fragrant flowers. Lavender wands are an ancient tradition in France\, and a beloved gift item here in Sequim\, the Lavendar Capital of the United States!  Workshops will be limited to 16 attendees.  There is no charge for this class but a donation to the non-profit Harmony Center is appreciated by each attendee (we suggest a minimum of $5 each but anything you can give is appreciated).  Please note there are two classes scheduled\, one during the week\, one on the weekend.  If more classes are needed\, we’ll look at the calendar.
URL:https://harmonycentersequim.org/event/lavender-wand-workshop/2024-07-23/
LOCATION:Harmony Center Sequim\, 223 Hudon Rd\, Sequim\, WA\, 98382\, United States
ATTACH;FMTTYPE=image/png:https://harmonycentersequim.org/wp-content/uploads/2024/07/lavendar-wands.png
ORGANIZER;CN="The Ethels Group of Olympic Peninsula":MAILTO:ellen@ellenkaminsky.com
END:VEVENT
BEGIN:VEVENT
DTSTART;TZID=America/Los_Angeles:20240713T130000
DTEND;TZID=America/Los_Angeles:20240713T150000
DTSTAMP:20260419T181411
CREATED:20240709T012005Z
LAST-MODIFIED:20240709T012005Z
UID:10006971-1720875600-1720882800@harmonycentersequim.org
SUMMARY:Lavender Wand Workshop
DESCRIPTION:It’s Lavender Season in Sequim so let’s celebrate!  Originating in the Victorian era\, Lavender wands were an easy and decorative craft made by weaving ribbons around lavender stems to enclose the fragrant flowers. Lavender wands are an ancient tradition in France\, and a beloved gift item here in Sequim\, the Lavendar Capital of the United States!  Workshops will be limited to 16 attendees.  There is no charge for this class but a donation to the non-profit Harmony Center is appreciated by each attendee (we suggest a minimum of $5 each but anything you can give is appreciated).  Please note there are two classes scheduled\, one during the week\, one on the weekend.  If more classes are needed\, we’ll look at the calendar.
URL:https://harmonycentersequim.org/event/lavender-wand-workshop/2024-07-13/
LOCATION:Harmony Center Sequim\, 223 Hudon Rd\, Sequim\, WA\, 98382\, United States
ATTACH;FMTTYPE=image/png:https://harmonycentersequim.org/wp-content/uploads/2024/07/lavendar-wands.png
ORGANIZER;CN="The Ethels Group of Olympic Peninsula":MAILTO:ellen@ellenkaminsky.com
END:VEVENT
END:VCALENDAR