BEGIN:VCALENDAR
VERSION:2.0
PRODID:-//Harmony Center Sequim - ECPv6.15.20//NONSGML v1.0//EN
CALSCALE:GREGORIAN
METHOD:PUBLISH
X-ORIGINAL-URL:https://harmonycentersequim.org
X-WR-CALDESC:Events for Harmony Center Sequim
REFRESH-INTERVAL;VALUE=DURATION:PT1H
X-Robots-Tag:noindex
X-PUBLISHED-TTL:PT1H
BEGIN:VTIMEZONE
TZID:America/Los_Angeles
BEGIN:DAYLIGHT
TZOFFSETFROM:-0800
TZOFFSETTO:-0700
TZNAME:PDT
DTSTART:20220313T100000
END:DAYLIGHT
BEGIN:STANDARD
TZOFFSETFROM:-0700
TZOFFSETTO:-0800
TZNAME:PST
DTSTART:20221106T090000
END:STANDARD
BEGIN:DAYLIGHT
TZOFFSETFROM:-0800
TZOFFSETTO:-0700
TZNAME:PDT
DTSTART:20230312T100000
END:DAYLIGHT
BEGIN:STANDARD
TZOFFSETFROM:-0700
TZOFFSETTO:-0800
TZNAME:PST
DTSTART:20231105T090000
END:STANDARD
BEGIN:DAYLIGHT
TZOFFSETFROM:-0800
TZOFFSETTO:-0700
TZNAME:PDT
DTSTART:20240310T100000
END:DAYLIGHT
BEGIN:STANDARD
TZOFFSETFROM:-0700
TZOFFSETTO:-0800
TZNAME:PST
DTSTART:20241103T090000
END:STANDARD
BEGIN:DAYLIGHT
TZOFFSETFROM:-0800
TZOFFSETTO:-0700
TZNAME:PDT
DTSTART:20250309T100000
END:DAYLIGHT
BEGIN:STANDARD
TZOFFSETFROM:-0700
TZOFFSETTO:-0800
TZNAME:PST
DTSTART:20251102T090000
END:STANDARD
BEGIN:DAYLIGHT
TZOFFSETFROM:-0800
TZOFFSETTO:-0700
TZNAME:PDT
DTSTART:20260308T100000
END:DAYLIGHT
BEGIN:STANDARD
TZOFFSETFROM:-0700
TZOFFSETTO:-0800
TZNAME:PST
DTSTART:20261101T090000
END:STANDARD
END:VTIMEZONE
BEGIN:VEVENT
DTSTART;TZID=America/Los_Angeles:20250925T140000
DTEND;TZID=America/Los_Angeles:20250925T160000
DTSTAMP:20260423T040646
CREATED:20250914T184958Z
LAST-MODIFIED:20250914T184958Z
UID:10009858-1758808800-1758816000@harmonycentersequim.org
SUMMARY:Image Transfers & Acrylic 
DESCRIPTION:Instructor: Barbara De Pirro\nSEPT 25\, 2 – 4 PM\nLocation:  Harmony Center\, 223 Hudon Rd\, Sequim 98382\nHosted by Olympic Peninsula Art Association – OPAA.\nFee: $60\nRegistration: https://www.eventbrite.com/e/in-person-image-transfers-acrylic-opaa-tickets-1665143502039 \nCome explore how to use Acrylic Mediums & Gels to transfer imagery into your artwork! This technique is an excellent way to incorporate images & text layers into your paintings\, collages or other mixed media works. \nI will share samples\, demonstrate the process\, answer questions and work with artists individually during the workshop.  Each artist will create samples of the technique\, which will serve as a valuable reference for future projects.\nA class summary will also be provided afterwards so that artists can continue their exploration independently. All art materials provided however you are welcome to bring laser copy images or other surfaces you’d like to experiment with.\nArtists of all levels are welcome. Dress for mess!
URL:https://harmonycentersequim.org/event/image-transfers-acrylic/
LOCATION:Harmony Center Sequim\, 223 Hudon Rd\, Sequim\, WA\, 98382\, United States
ATTACH;FMTTYPE=image/jpeg:https://harmonycentersequim.org/wp-content/uploads/2025/09/DePirro.Image-transfer_Acrylic.1.jpg
ORGANIZER;CN="OPAA President":MAILTO:opaapresident2023@gmail.com
END:VEVENT
BEGIN:VEVENT
DTSTART;TZID=America/Los_Angeles:20250222T100000
DTEND;TZID=America/Los_Angeles:20250222T120000
DTSTAMP:20260423T040646
CREATED:20250105T221529Z
LAST-MODIFIED:20250105T221937Z
UID:10008849-1740218400-1740225600@harmonycentersequim.org
SUMMARY:Watercolor for Beginners
DESCRIPTION:Welcome to Watercolor for Beginners. The course will begin on January 25th at 10 am – 12 pm at Harmony Center Sequim\, 223 Hudon Rd\, Sequim Washington. \nThis is designed for the absolute beginner. We are hoping to introduce people to the joy of art for themselves. The class will run for 5 successive weeks and will cover the basics of watercolor – paints\, brushes\, paper\, color and techniques. The fee will be $125 for the entire course. We will paint a small item in each class with a bit larger item for the last class. \nA materials list will be available or a materials pack can be ordered ahead of time for $25. Material packs must be preordered by January 15th. Use the following link to sign up and pay. \nhttps://opaagroup.org/watercolor-for-beginners/ \nPlease park at an angle to the right of the driveway.  Do NOT park on the driveway.
URL:https://harmonycentersequim.org/event/watercolor-for-beginners/2025-02-22/
LOCATION:Harmony Center Sequim\, 223 Hudon Rd\, Sequim\, WA\, 98382\, United States
ATTACH;FMTTYPE=image/jpeg:https://harmonycentersequim.org/wp-content/uploads/2025/01/brush-3445376_640-watercolor.jpg
ORGANIZER;CN="OPAA President":MAILTO:opaapresident2023@gmail.com
END:VEVENT
BEGIN:VEVENT
DTSTART;TZID=America/Los_Angeles:20250215T100000
DTEND;TZID=America/Los_Angeles:20250215T120000
DTSTAMP:20260423T040646
CREATED:20250105T221529Z
LAST-MODIFIED:20250105T221937Z
UID:10008848-1739613600-1739620800@harmonycentersequim.org
SUMMARY:Watercolor for Beginners
DESCRIPTION:Welcome to Watercolor for Beginners. The course will begin on January 25th at 10 am – 12 pm at Harmony Center Sequim\, 223 Hudon Rd\, Sequim Washington. \nThis is designed for the absolute beginner. We are hoping to introduce people to the joy of art for themselves. The class will run for 5 successive weeks and will cover the basics of watercolor – paints\, brushes\, paper\, color and techniques. The fee will be $125 for the entire course. We will paint a small item in each class with a bit larger item for the last class. \nA materials list will be available or a materials pack can be ordered ahead of time for $25. Material packs must be preordered by January 15th. Use the following link to sign up and pay. \nhttps://opaagroup.org/watercolor-for-beginners/ \nPlease park at an angle to the right of the driveway.  Do NOT park on the driveway.
URL:https://harmonycentersequim.org/event/watercolor-for-beginners/2025-02-15/
LOCATION:Harmony Center Sequim\, 223 Hudon Rd\, Sequim\, WA\, 98382\, United States
ATTACH;FMTTYPE=image/jpeg:https://harmonycentersequim.org/wp-content/uploads/2025/01/brush-3445376_640-watercolor.jpg
ORGANIZER;CN="OPAA President":MAILTO:opaapresident2023@gmail.com
END:VEVENT
BEGIN:VEVENT
DTSTART;TZID=America/Los_Angeles:20250208T100000
DTEND;TZID=America/Los_Angeles:20250208T120000
DTSTAMP:20260423T040646
CREATED:20250105T221529Z
LAST-MODIFIED:20250105T221937Z
UID:10008847-1739008800-1739016000@harmonycentersequim.org
SUMMARY:Watercolor for Beginners
DESCRIPTION:Welcome to Watercolor for Beginners. The course will begin on January 25th at 10 am – 12 pm at Harmony Center Sequim\, 223 Hudon Rd\, Sequim Washington. \nThis is designed for the absolute beginner. We are hoping to introduce people to the joy of art for themselves. The class will run for 5 successive weeks and will cover the basics of watercolor – paints\, brushes\, paper\, color and techniques. The fee will be $125 for the entire course. We will paint a small item in each class with a bit larger item for the last class. \nA materials list will be available or a materials pack can be ordered ahead of time for $25. Material packs must be preordered by January 15th. Use the following link to sign up and pay. \nhttps://opaagroup.org/watercolor-for-beginners/ \nPlease park at an angle to the right of the driveway.  Do NOT park on the driveway.
URL:https://harmonycentersequim.org/event/watercolor-for-beginners/2025-02-08/
LOCATION:Harmony Center Sequim\, 223 Hudon Rd\, Sequim\, WA\, 98382\, United States
ATTACH;FMTTYPE=image/jpeg:https://harmonycentersequim.org/wp-content/uploads/2025/01/brush-3445376_640-watercolor.jpg
ORGANIZER;CN="OPAA President":MAILTO:opaapresident2023@gmail.com
END:VEVENT
BEGIN:VEVENT
DTSTART;TZID=America/Los_Angeles:20250201T100000
DTEND;TZID=America/Los_Angeles:20250201T120000
DTSTAMP:20260423T040646
CREATED:20250105T221529Z
LAST-MODIFIED:20250105T221937Z
UID:10008846-1738404000-1738411200@harmonycentersequim.org
SUMMARY:Watercolor for Beginners
DESCRIPTION:Welcome to Watercolor for Beginners. The course will begin on January 25th at 10 am – 12 pm at Harmony Center Sequim\, 223 Hudon Rd\, Sequim Washington. \nThis is designed for the absolute beginner. We are hoping to introduce people to the joy of art for themselves. The class will run for 5 successive weeks and will cover the basics of watercolor – paints\, brushes\, paper\, color and techniques. The fee will be $125 for the entire course. We will paint a small item in each class with a bit larger item for the last class. \nA materials list will be available or a materials pack can be ordered ahead of time for $25. Material packs must be preordered by January 15th. Use the following link to sign up and pay. \nhttps://opaagroup.org/watercolor-for-beginners/ \nPlease park at an angle to the right of the driveway.  Do NOT park on the driveway.
URL:https://harmonycentersequim.org/event/watercolor-for-beginners/2025-02-01/
LOCATION:Harmony Center Sequim\, 223 Hudon Rd\, Sequim\, WA\, 98382\, United States
ATTACH;FMTTYPE=image/jpeg:https://harmonycentersequim.org/wp-content/uploads/2025/01/brush-3445376_640-watercolor.jpg
ORGANIZER;CN="OPAA President":MAILTO:opaapresident2023@gmail.com
END:VEVENT
BEGIN:VEVENT
DTSTART;TZID=America/Los_Angeles:20250125T100000
DTEND;TZID=America/Los_Angeles:20250125T120000
DTSTAMP:20260423T040646
CREATED:20250105T221529Z
LAST-MODIFIED:20250105T221937Z
UID:10008845-1737799200-1737806400@harmonycentersequim.org
SUMMARY:Watercolor for Beginners
DESCRIPTION:Welcome to Watercolor for Beginners. The course will begin on January 25th at 10 am – 12 pm at Harmony Center Sequim\, 223 Hudon Rd\, Sequim Washington. \nThis is designed for the absolute beginner. We are hoping to introduce people to the joy of art for themselves. The class will run for 5 successive weeks and will cover the basics of watercolor – paints\, brushes\, paper\, color and techniques. The fee will be $125 for the entire course. We will paint a small item in each class with a bit larger item for the last class. \nA materials list will be available or a materials pack can be ordered ahead of time for $25. Material packs must be preordered by January 15th. Use the following link to sign up and pay. \nhttps://opaagroup.org/watercolor-for-beginners/ \nPlease park at an angle to the right of the driveway.  Do NOT park on the driveway.
URL:https://harmonycentersequim.org/event/watercolor-for-beginners/2025-01-25/
LOCATION:Harmony Center Sequim\, 223 Hudon Rd\, Sequim\, WA\, 98382\, United States
ATTACH;FMTTYPE=image/jpeg:https://harmonycentersequim.org/wp-content/uploads/2025/01/brush-3445376_640-watercolor.jpg
ORGANIZER;CN="OPAA President":MAILTO:opaapresident2023@gmail.com
END:VEVENT
BEGIN:VEVENT
DTSTART;TZID=America/Los_Angeles:20230724T100000
DTEND;TZID=America/Los_Angeles:20230724T120000
DTSTAMP:20260423T040646
CREATED:20230720T153753Z
LAST-MODIFIED:20230720T153753Z
UID:10002764-1690192800-1690200000@harmonycentersequim.org
SUMMARY:Gallery 223 Committee Meeting
DESCRIPTION:Gallery committee meeting to meet and discuss revisions to gallery operation.
URL:https://harmonycentersequim.org/event/gallery-223-committee-meeting/
LOCATION:Harmony Center Sequim\, 223 Hudon Rd\, Sequim\, WA\, 98382\, United States
ORGANIZER;CN="OPAA President":MAILTO:opaapresident2023@gmail.com
END:VEVENT
END:VCALENDAR