BEGIN:VCALENDAR
VERSION:2.0
PRODID:-//Harmony Center Sequim - ECPv6.15.20//NONSGML v1.0//EN
CALSCALE:GREGORIAN
METHOD:PUBLISH
X-ORIGINAL-URL:https://harmonycentersequim.org
X-WR-CALDESC:Events for Harmony Center Sequim
REFRESH-INTERVAL;VALUE=DURATION:PT1H
X-Robots-Tag:noindex
X-PUBLISHED-TTL:PT1H
BEGIN:VTIMEZONE
TZID:America/Los_Angeles
BEGIN:DAYLIGHT
TZOFFSETFROM:-0800
TZOFFSETTO:-0700
TZNAME:PDT
DTSTART:20260308T100000
END:DAYLIGHT
BEGIN:STANDARD
TZOFFSETFROM:-0700
TZOFFSETTO:-0800
TZNAME:PST
DTSTART:20261101T090000
END:STANDARD
BEGIN:DAYLIGHT
TZOFFSETFROM:-0800
TZOFFSETTO:-0700
TZNAME:PDT
DTSTART:20270314T100000
END:DAYLIGHT
BEGIN:STANDARD
TZOFFSETFROM:-0700
TZOFFSETTO:-0800
TZNAME:PST
DTSTART:20271107T090000
END:STANDARD
BEGIN:DAYLIGHT
TZOFFSETFROM:-0800
TZOFFSETTO:-0700
TZNAME:PDT
DTSTART:20280312T100000
END:DAYLIGHT
BEGIN:STANDARD
TZOFFSETFROM:-0700
TZOFFSETTO:-0800
TZNAME:PST
DTSTART:20281105T090000
END:STANDARD
BEGIN:DAYLIGHT
TZOFFSETFROM:-0800
TZOFFSETTO:-0700
TZNAME:PDT
DTSTART:20290311T100000
END:DAYLIGHT
BEGIN:STANDARD
TZOFFSETFROM:-0700
TZOFFSETTO:-0800
TZNAME:PST
DTSTART:20291104T090000
END:STANDARD
END:VTIMEZONE
BEGIN:VEVENT
DTSTART;TZID=America/Los_Angeles:20270618T140000
DTEND;TZID=America/Los_Angeles:20270618T170000
DTSTAMP:20260422T145416
CREATED:20260412T183452Z
LAST-MODIFIED:20260412T183636Z
UID:10011939-1813327200-1813338000@harmonycentersequim.org
SUMMARY:Advanced Mahjong
DESCRIPTION:Ready to take your Mahjong skills to the next level and learn how to score with confidence?  These advanced sessions are designed just for you!  Join us every Friday from 2–5 PM to deepen your strategy\, refine your gameplay\, and master scoring techniques. \n 
URL:https://harmonycentersequim.org/event/advanced-mahjong/2027-06-18/
LOCATION:Harmony Center Sequim\, 223 Hudon Rd\, Sequim\, WA\, 98382\, United States
ORGANIZER;CN="Char Reeves":MAILTO:charreeves0384@outlook.com
END:VEVENT
BEGIN:VEVENT
DTSTART;TZID=America/Los_Angeles:20270625T140000
DTEND;TZID=America/Los_Angeles:20270625T170000
DTSTAMP:20260422T145416
CREATED:20260412T183452Z
LAST-MODIFIED:20260412T183636Z
UID:10011940-1813932000-1813942800@harmonycentersequim.org
SUMMARY:Advanced Mahjong
DESCRIPTION:Ready to take your Mahjong skills to the next level and learn how to score with confidence?  These advanced sessions are designed just for you!  Join us every Friday from 2–5 PM to deepen your strategy\, refine your gameplay\, and master scoring techniques. \n 
URL:https://harmonycentersequim.org/event/advanced-mahjong/2027-06-25/
LOCATION:Harmony Center Sequim\, 223 Hudon Rd\, Sequim\, WA\, 98382\, United States
ORGANIZER;CN="Char Reeves":MAILTO:charreeves0384@outlook.com
END:VEVENT
BEGIN:VEVENT
DTSTART;TZID=America/Los_Angeles:20270702T140000
DTEND;TZID=America/Los_Angeles:20270702T170000
DTSTAMP:20260422T145416
CREATED:20260412T183452Z
LAST-MODIFIED:20260412T183636Z
UID:10011941-1814536800-1814547600@harmonycentersequim.org
SUMMARY:Advanced Mahjong
DESCRIPTION:Ready to take your Mahjong skills to the next level and learn how to score with confidence?  These advanced sessions are designed just for you!  Join us every Friday from 2–5 PM to deepen your strategy\, refine your gameplay\, and master scoring techniques. \n 
URL:https://harmonycentersequim.org/event/advanced-mahjong/2027-07-02/
LOCATION:Harmony Center Sequim\, 223 Hudon Rd\, Sequim\, WA\, 98382\, United States
ORGANIZER;CN="Char Reeves":MAILTO:charreeves0384@outlook.com
END:VEVENT
BEGIN:VEVENT
DTSTART;TZID=America/Los_Angeles:20270709T140000
DTEND;TZID=America/Los_Angeles:20270709T170000
DTSTAMP:20260422T145416
CREATED:20260412T183452Z
LAST-MODIFIED:20260412T183636Z
UID:10011942-1815141600-1815152400@harmonycentersequim.org
SUMMARY:Advanced Mahjong
DESCRIPTION:Ready to take your Mahjong skills to the next level and learn how to score with confidence?  These advanced sessions are designed just for you!  Join us every Friday from 2–5 PM to deepen your strategy\, refine your gameplay\, and master scoring techniques. \n 
URL:https://harmonycentersequim.org/event/advanced-mahjong/2027-07-09/
LOCATION:Harmony Center Sequim\, 223 Hudon Rd\, Sequim\, WA\, 98382\, United States
ORGANIZER;CN="Char Reeves":MAILTO:charreeves0384@outlook.com
END:VEVENT
BEGIN:VEVENT
DTSTART;TZID=America/Los_Angeles:20270716T140000
DTEND;TZID=America/Los_Angeles:20270716T170000
DTSTAMP:20260422T145416
CREATED:20260412T183452Z
LAST-MODIFIED:20260412T183636Z
UID:10011943-1815746400-1815757200@harmonycentersequim.org
SUMMARY:Advanced Mahjong
DESCRIPTION:Ready to take your Mahjong skills to the next level and learn how to score with confidence?  These advanced sessions are designed just for you!  Join us every Friday from 2–5 PM to deepen your strategy\, refine your gameplay\, and master scoring techniques. \n 
URL:https://harmonycentersequim.org/event/advanced-mahjong/2027-07-16/
LOCATION:Harmony Center Sequim\, 223 Hudon Rd\, Sequim\, WA\, 98382\, United States
ORGANIZER;CN="Char Reeves":MAILTO:charreeves0384@outlook.com
END:VEVENT
BEGIN:VEVENT
DTSTART;TZID=America/Los_Angeles:20270723T140000
DTEND;TZID=America/Los_Angeles:20270723T170000
DTSTAMP:20260422T145416
CREATED:20260412T183452Z
LAST-MODIFIED:20260412T183636Z
UID:10011944-1816351200-1816362000@harmonycentersequim.org
SUMMARY:Advanced Mahjong
DESCRIPTION:Ready to take your Mahjong skills to the next level and learn how to score with confidence?  These advanced sessions are designed just for you!  Join us every Friday from 2–5 PM to deepen your strategy\, refine your gameplay\, and master scoring techniques. \n 
URL:https://harmonycentersequim.org/event/advanced-mahjong/2027-07-23/
LOCATION:Harmony Center Sequim\, 223 Hudon Rd\, Sequim\, WA\, 98382\, United States
ORGANIZER;CN="Char Reeves":MAILTO:charreeves0384@outlook.com
END:VEVENT
BEGIN:VEVENT
DTSTART;TZID=America/Los_Angeles:20270730T140000
DTEND;TZID=America/Los_Angeles:20270730T170000
DTSTAMP:20260422T145416
CREATED:20260412T183452Z
LAST-MODIFIED:20260412T183636Z
UID:10011945-1816956000-1816966800@harmonycentersequim.org
SUMMARY:Advanced Mahjong
DESCRIPTION:Ready to take your Mahjong skills to the next level and learn how to score with confidence?  These advanced sessions are designed just for you!  Join us every Friday from 2–5 PM to deepen your strategy\, refine your gameplay\, and master scoring techniques. \n 
URL:https://harmonycentersequim.org/event/advanced-mahjong/2027-07-30/
LOCATION:Harmony Center Sequim\, 223 Hudon Rd\, Sequim\, WA\, 98382\, United States
ORGANIZER;CN="Char Reeves":MAILTO:charreeves0384@outlook.com
END:VEVENT
BEGIN:VEVENT
DTSTART;TZID=America/Los_Angeles:20270806T140000
DTEND;TZID=America/Los_Angeles:20270806T170000
DTSTAMP:20260422T145416
CREATED:20260412T183452Z
LAST-MODIFIED:20260412T183636Z
UID:10011946-1817560800-1817571600@harmonycentersequim.org
SUMMARY:Advanced Mahjong
DESCRIPTION:Ready to take your Mahjong skills to the next level and learn how to score with confidence?  These advanced sessions are designed just for you!  Join us every Friday from 2–5 PM to deepen your strategy\, refine your gameplay\, and master scoring techniques. \n 
URL:https://harmonycentersequim.org/event/advanced-mahjong/2027-08-06/
LOCATION:Harmony Center Sequim\, 223 Hudon Rd\, Sequim\, WA\, 98382\, United States
ORGANIZER;CN="Char Reeves":MAILTO:charreeves0384@outlook.com
END:VEVENT
BEGIN:VEVENT
DTSTART;TZID=America/Los_Angeles:20270813T140000
DTEND;TZID=America/Los_Angeles:20270813T170000
DTSTAMP:20260422T145416
CREATED:20260412T183452Z
LAST-MODIFIED:20260412T183636Z
UID:10011947-1818165600-1818176400@harmonycentersequim.org
SUMMARY:Advanced Mahjong
DESCRIPTION:Ready to take your Mahjong skills to the next level and learn how to score with confidence?  These advanced sessions are designed just for you!  Join us every Friday from 2–5 PM to deepen your strategy\, refine your gameplay\, and master scoring techniques. \n 
URL:https://harmonycentersequim.org/event/advanced-mahjong/2027-08-13/
LOCATION:Harmony Center Sequim\, 223 Hudon Rd\, Sequim\, WA\, 98382\, United States
ORGANIZER;CN="Char Reeves":MAILTO:charreeves0384@outlook.com
END:VEVENT
BEGIN:VEVENT
DTSTART;TZID=America/Los_Angeles:20270820T140000
DTEND;TZID=America/Los_Angeles:20270820T170000
DTSTAMP:20260422T145416
CREATED:20260412T183452Z
LAST-MODIFIED:20260412T183636Z
UID:10011948-1818770400-1818781200@harmonycentersequim.org
SUMMARY:Advanced Mahjong
DESCRIPTION:Ready to take your Mahjong skills to the next level and learn how to score with confidence?  These advanced sessions are designed just for you!  Join us every Friday from 2–5 PM to deepen your strategy\, refine your gameplay\, and master scoring techniques. \n 
URL:https://harmonycentersequim.org/event/advanced-mahjong/2027-08-20/
LOCATION:Harmony Center Sequim\, 223 Hudon Rd\, Sequim\, WA\, 98382\, United States
ORGANIZER;CN="Char Reeves":MAILTO:charreeves0384@outlook.com
END:VEVENT
BEGIN:VEVENT
DTSTART;TZID=America/Los_Angeles:20270827T140000
DTEND;TZID=America/Los_Angeles:20270827T170000
DTSTAMP:20260422T145416
CREATED:20260412T183452Z
LAST-MODIFIED:20260412T183636Z
UID:10011949-1819375200-1819386000@harmonycentersequim.org
SUMMARY:Advanced Mahjong
DESCRIPTION:Ready to take your Mahjong skills to the next level and learn how to score with confidence?  These advanced sessions are designed just for you!  Join us every Friday from 2–5 PM to deepen your strategy\, refine your gameplay\, and master scoring techniques. \n 
URL:https://harmonycentersequim.org/event/advanced-mahjong/2027-08-27/
LOCATION:Harmony Center Sequim\, 223 Hudon Rd\, Sequim\, WA\, 98382\, United States
ORGANIZER;CN="Char Reeves":MAILTO:charreeves0384@outlook.com
END:VEVENT
BEGIN:VEVENT
DTSTART;TZID=America/Los_Angeles:20270903T140000
DTEND;TZID=America/Los_Angeles:20270903T170000
DTSTAMP:20260422T145416
CREATED:20260412T183452Z
LAST-MODIFIED:20260412T183636Z
UID:10011950-1819980000-1819990800@harmonycentersequim.org
SUMMARY:Advanced Mahjong
DESCRIPTION:Ready to take your Mahjong skills to the next level and learn how to score with confidence?  These advanced sessions are designed just for you!  Join us every Friday from 2–5 PM to deepen your strategy\, refine your gameplay\, and master scoring techniques. \n 
URL:https://harmonycentersequim.org/event/advanced-mahjong/2027-09-03/
LOCATION:Harmony Center Sequim\, 223 Hudon Rd\, Sequim\, WA\, 98382\, United States
ORGANIZER;CN="Char Reeves":MAILTO:charreeves0384@outlook.com
END:VEVENT
BEGIN:VEVENT
DTSTART;TZID=America/Los_Angeles:20270910T140000
DTEND;TZID=America/Los_Angeles:20270910T170000
DTSTAMP:20260422T145416
CREATED:20260412T183452Z
LAST-MODIFIED:20260412T183636Z
UID:10011951-1820584800-1820595600@harmonycentersequim.org
SUMMARY:Advanced Mahjong
DESCRIPTION:Ready to take your Mahjong skills to the next level and learn how to score with confidence?  These advanced sessions are designed just for you!  Join us every Friday from 2–5 PM to deepen your strategy\, refine your gameplay\, and master scoring techniques. \n 
URL:https://harmonycentersequim.org/event/advanced-mahjong/2027-09-10/
LOCATION:Harmony Center Sequim\, 223 Hudon Rd\, Sequim\, WA\, 98382\, United States
ORGANIZER;CN="Char Reeves":MAILTO:charreeves0384@outlook.com
END:VEVENT
BEGIN:VEVENT
DTSTART;TZID=America/Los_Angeles:20270917T140000
DTEND;TZID=America/Los_Angeles:20270917T170000
DTSTAMP:20260422T145416
CREATED:20260412T183452Z
LAST-MODIFIED:20260412T183636Z
UID:10011952-1821189600-1821200400@harmonycentersequim.org
SUMMARY:Advanced Mahjong
DESCRIPTION:Ready to take your Mahjong skills to the next level and learn how to score with confidence?  These advanced sessions are designed just for you!  Join us every Friday from 2–5 PM to deepen your strategy\, refine your gameplay\, and master scoring techniques. \n 
URL:https://harmonycentersequim.org/event/advanced-mahjong/2027-09-17/
LOCATION:Harmony Center Sequim\, 223 Hudon Rd\, Sequim\, WA\, 98382\, United States
ORGANIZER;CN="Char Reeves":MAILTO:charreeves0384@outlook.com
END:VEVENT
BEGIN:VEVENT
DTSTART;TZID=America/Los_Angeles:20270924T140000
DTEND;TZID=America/Los_Angeles:20270924T170000
DTSTAMP:20260422T145416
CREATED:20260412T183452Z
LAST-MODIFIED:20260412T183636Z
UID:10011953-1821794400-1821805200@harmonycentersequim.org
SUMMARY:Advanced Mahjong
DESCRIPTION:Ready to take your Mahjong skills to the next level and learn how to score with confidence?  These advanced sessions are designed just for you!  Join us every Friday from 2–5 PM to deepen your strategy\, refine your gameplay\, and master scoring techniques. \n 
URL:https://harmonycentersequim.org/event/advanced-mahjong/2027-09-24/
LOCATION:Harmony Center Sequim\, 223 Hudon Rd\, Sequim\, WA\, 98382\, United States
ORGANIZER;CN="Char Reeves":MAILTO:charreeves0384@outlook.com
END:VEVENT
BEGIN:VEVENT
DTSTART;TZID=America/Los_Angeles:20271001T140000
DTEND;TZID=America/Los_Angeles:20271001T170000
DTSTAMP:20260422T145416
CREATED:20260412T183452Z
LAST-MODIFIED:20260412T183636Z
UID:10011954-1822399200-1822410000@harmonycentersequim.org
SUMMARY:Advanced Mahjong
DESCRIPTION:Ready to take your Mahjong skills to the next level and learn how to score with confidence?  These advanced sessions are designed just for you!  Join us every Friday from 2–5 PM to deepen your strategy\, refine your gameplay\, and master scoring techniques. \n 
URL:https://harmonycentersequim.org/event/advanced-mahjong/2027-10-01/
LOCATION:Harmony Center Sequim\, 223 Hudon Rd\, Sequim\, WA\, 98382\, United States
ORGANIZER;CN="Char Reeves":MAILTO:charreeves0384@outlook.com
END:VEVENT
BEGIN:VEVENT
DTSTART;TZID=America/Los_Angeles:20271008T140000
DTEND;TZID=America/Los_Angeles:20271008T170000
DTSTAMP:20260422T145416
CREATED:20260412T183452Z
LAST-MODIFIED:20260412T183636Z
UID:10011955-1823004000-1823014800@harmonycentersequim.org
SUMMARY:Advanced Mahjong
DESCRIPTION:Ready to take your Mahjong skills to the next level and learn how to score with confidence?  These advanced sessions are designed just for you!  Join us every Friday from 2–5 PM to deepen your strategy\, refine your gameplay\, and master scoring techniques. \n 
URL:https://harmonycentersequim.org/event/advanced-mahjong/2027-10-08/
LOCATION:Harmony Center Sequim\, 223 Hudon Rd\, Sequim\, WA\, 98382\, United States
ORGANIZER;CN="Char Reeves":MAILTO:charreeves0384@outlook.com
END:VEVENT
BEGIN:VEVENT
DTSTART;TZID=America/Los_Angeles:20271015T140000
DTEND;TZID=America/Los_Angeles:20271015T170000
DTSTAMP:20260422T145416
CREATED:20260412T183452Z
LAST-MODIFIED:20260412T183636Z
UID:10011956-1823608800-1823619600@harmonycentersequim.org
SUMMARY:Advanced Mahjong
DESCRIPTION:Ready to take your Mahjong skills to the next level and learn how to score with confidence?  These advanced sessions are designed just for you!  Join us every Friday from 2–5 PM to deepen your strategy\, refine your gameplay\, and master scoring techniques. \n 
URL:https://harmonycentersequim.org/event/advanced-mahjong/2027-10-15/
LOCATION:Harmony Center Sequim\, 223 Hudon Rd\, Sequim\, WA\, 98382\, United States
ORGANIZER;CN="Char Reeves":MAILTO:charreeves0384@outlook.com
END:VEVENT
BEGIN:VEVENT
DTSTART;TZID=America/Los_Angeles:20271022T140000
DTEND;TZID=America/Los_Angeles:20271022T170000
DTSTAMP:20260422T145416
CREATED:20260412T183452Z
LAST-MODIFIED:20260412T183636Z
UID:10011957-1824213600-1824224400@harmonycentersequim.org
SUMMARY:Advanced Mahjong
DESCRIPTION:Ready to take your Mahjong skills to the next level and learn how to score with confidence?  These advanced sessions are designed just for you!  Join us every Friday from 2–5 PM to deepen your strategy\, refine your gameplay\, and master scoring techniques. \n 
URL:https://harmonycentersequim.org/event/advanced-mahjong/2027-10-22/
LOCATION:Harmony Center Sequim\, 223 Hudon Rd\, Sequim\, WA\, 98382\, United States
ORGANIZER;CN="Char Reeves":MAILTO:charreeves0384@outlook.com
END:VEVENT
BEGIN:VEVENT
DTSTART;TZID=America/Los_Angeles:20271029T140000
DTEND;TZID=America/Los_Angeles:20271029T170000
DTSTAMP:20260422T145416
CREATED:20260412T183452Z
LAST-MODIFIED:20260412T183636Z
UID:10011958-1824818400-1824829200@harmonycentersequim.org
SUMMARY:Advanced Mahjong
DESCRIPTION:Ready to take your Mahjong skills to the next level and learn how to score with confidence?  These advanced sessions are designed just for you!  Join us every Friday from 2–5 PM to deepen your strategy\, refine your gameplay\, and master scoring techniques. \n 
URL:https://harmonycentersequim.org/event/advanced-mahjong/2027-10-29/
LOCATION:Harmony Center Sequim\, 223 Hudon Rd\, Sequim\, WA\, 98382\, United States
ORGANIZER;CN="Char Reeves":MAILTO:charreeves0384@outlook.com
END:VEVENT
BEGIN:VEVENT
DTSTART;TZID=America/Los_Angeles:20271105T140000
DTEND;TZID=America/Los_Angeles:20271105T170000
DTSTAMP:20260422T145416
CREATED:20260412T183452Z
LAST-MODIFIED:20260412T183636Z
UID:10011959-1825423200-1825434000@harmonycentersequim.org
SUMMARY:Advanced Mahjong
DESCRIPTION:Ready to take your Mahjong skills to the next level and learn how to score with confidence?  These advanced sessions are designed just for you!  Join us every Friday from 2–5 PM to deepen your strategy\, refine your gameplay\, and master scoring techniques. \n 
URL:https://harmonycentersequim.org/event/advanced-mahjong/2027-11-05/
LOCATION:Harmony Center Sequim\, 223 Hudon Rd\, Sequim\, WA\, 98382\, United States
ORGANIZER;CN="Char Reeves":MAILTO:charreeves0384@outlook.com
END:VEVENT
BEGIN:VEVENT
DTSTART;TZID=America/Los_Angeles:20271112T140000
DTEND;TZID=America/Los_Angeles:20271112T170000
DTSTAMP:20260422T145416
CREATED:20260412T183452Z
LAST-MODIFIED:20260412T183636Z
UID:10011960-1826028000-1826038800@harmonycentersequim.org
SUMMARY:Advanced Mahjong
DESCRIPTION:Ready to take your Mahjong skills to the next level and learn how to score with confidence?  These advanced sessions are designed just for you!  Join us every Friday from 2–5 PM to deepen your strategy\, refine your gameplay\, and master scoring techniques. \n 
URL:https://harmonycentersequim.org/event/advanced-mahjong/2027-11-12/
LOCATION:Harmony Center Sequim\, 223 Hudon Rd\, Sequim\, WA\, 98382\, United States
ORGANIZER;CN="Char Reeves":MAILTO:charreeves0384@outlook.com
END:VEVENT
BEGIN:VEVENT
DTSTART;TZID=America/Los_Angeles:20271119T140000
DTEND;TZID=America/Los_Angeles:20271119T170000
DTSTAMP:20260422T145416
CREATED:20260412T183452Z
LAST-MODIFIED:20260412T183636Z
UID:10011961-1826632800-1826643600@harmonycentersequim.org
SUMMARY:Advanced Mahjong
DESCRIPTION:Ready to take your Mahjong skills to the next level and learn how to score with confidence?  These advanced sessions are designed just for you!  Join us every Friday from 2–5 PM to deepen your strategy\, refine your gameplay\, and master scoring techniques. \n 
URL:https://harmonycentersequim.org/event/advanced-mahjong/2027-11-19/
LOCATION:Harmony Center Sequim\, 223 Hudon Rd\, Sequim\, WA\, 98382\, United States
ORGANIZER;CN="Char Reeves":MAILTO:charreeves0384@outlook.com
END:VEVENT
BEGIN:VEVENT
DTSTART;TZID=America/Los_Angeles:20271126T140000
DTEND;TZID=America/Los_Angeles:20271126T170000
DTSTAMP:20260422T145416
CREATED:20260412T183452Z
LAST-MODIFIED:20260412T183636Z
UID:10011962-1827237600-1827248400@harmonycentersequim.org
SUMMARY:Advanced Mahjong
DESCRIPTION:Ready to take your Mahjong skills to the next level and learn how to score with confidence?  These advanced sessions are designed just for you!  Join us every Friday from 2–5 PM to deepen your strategy\, refine your gameplay\, and master scoring techniques. \n 
URL:https://harmonycentersequim.org/event/advanced-mahjong/2027-11-26/
LOCATION:Harmony Center Sequim\, 223 Hudon Rd\, Sequim\, WA\, 98382\, United States
ORGANIZER;CN="Char Reeves":MAILTO:charreeves0384@outlook.com
END:VEVENT
BEGIN:VEVENT
DTSTART;TZID=America/Los_Angeles:20271203T140000
DTEND;TZID=America/Los_Angeles:20271203T170000
DTSTAMP:20260422T145416
CREATED:20260412T183452Z
LAST-MODIFIED:20260412T183636Z
UID:10011963-1827842400-1827853200@harmonycentersequim.org
SUMMARY:Advanced Mahjong
DESCRIPTION:Ready to take your Mahjong skills to the next level and learn how to score with confidence?  These advanced sessions are designed just for you!  Join us every Friday from 2–5 PM to deepen your strategy\, refine your gameplay\, and master scoring techniques. \n 
URL:https://harmonycentersequim.org/event/advanced-mahjong/2027-12-03/
LOCATION:Harmony Center Sequim\, 223 Hudon Rd\, Sequim\, WA\, 98382\, United States
ORGANIZER;CN="Char Reeves":MAILTO:charreeves0384@outlook.com
END:VEVENT
BEGIN:VEVENT
DTSTART;TZID=America/Los_Angeles:20271210T140000
DTEND;TZID=America/Los_Angeles:20271210T170000
DTSTAMP:20260422T145416
CREATED:20260412T183452Z
LAST-MODIFIED:20260412T183636Z
UID:10011964-1828447200-1828458000@harmonycentersequim.org
SUMMARY:Advanced Mahjong
DESCRIPTION:Ready to take your Mahjong skills to the next level and learn how to score with confidence?  These advanced sessions are designed just for you!  Join us every Friday from 2–5 PM to deepen your strategy\, refine your gameplay\, and master scoring techniques. \n 
URL:https://harmonycentersequim.org/event/advanced-mahjong/2027-12-10/
LOCATION:Harmony Center Sequim\, 223 Hudon Rd\, Sequim\, WA\, 98382\, United States
ORGANIZER;CN="Char Reeves":MAILTO:charreeves0384@outlook.com
END:VEVENT
BEGIN:VEVENT
DTSTART;TZID=America/Los_Angeles:20271217T140000
DTEND;TZID=America/Los_Angeles:20271217T170000
DTSTAMP:20260422T145416
CREATED:20260412T183452Z
LAST-MODIFIED:20260412T183636Z
UID:10011965-1829052000-1829062800@harmonycentersequim.org
SUMMARY:Advanced Mahjong
DESCRIPTION:Ready to take your Mahjong skills to the next level and learn how to score with confidence?  These advanced sessions are designed just for you!  Join us every Friday from 2–5 PM to deepen your strategy\, refine your gameplay\, and master scoring techniques. \n 
URL:https://harmonycentersequim.org/event/advanced-mahjong/2027-12-17/
LOCATION:Harmony Center Sequim\, 223 Hudon Rd\, Sequim\, WA\, 98382\, United States
ORGANIZER;CN="Char Reeves":MAILTO:charreeves0384@outlook.com
END:VEVENT
BEGIN:VEVENT
DTSTART;TZID=America/Los_Angeles:20271224T140000
DTEND;TZID=America/Los_Angeles:20271224T170000
DTSTAMP:20260422T145416
CREATED:20260412T183452Z
LAST-MODIFIED:20260412T183636Z
UID:10011966-1829656800-1829667600@harmonycentersequim.org
SUMMARY:Advanced Mahjong
DESCRIPTION:Ready to take your Mahjong skills to the next level and learn how to score with confidence?  These advanced sessions are designed just for you!  Join us every Friday from 2–5 PM to deepen your strategy\, refine your gameplay\, and master scoring techniques. \n 
URL:https://harmonycentersequim.org/event/advanced-mahjong/2027-12-24/
LOCATION:Harmony Center Sequim\, 223 Hudon Rd\, Sequim\, WA\, 98382\, United States
ORGANIZER;CN="Char Reeves":MAILTO:charreeves0384@outlook.com
END:VEVENT
BEGIN:VEVENT
DTSTART;TZID=America/Los_Angeles:20271231T140000
DTEND;TZID=America/Los_Angeles:20271231T170000
DTSTAMP:20260422T145416
CREATED:20260412T183452Z
LAST-MODIFIED:20260412T183636Z
UID:10011967-1830261600-1830272400@harmonycentersequim.org
SUMMARY:Advanced Mahjong
DESCRIPTION:Ready to take your Mahjong skills to the next level and learn how to score with confidence?  These advanced sessions are designed just for you!  Join us every Friday from 2–5 PM to deepen your strategy\, refine your gameplay\, and master scoring techniques. \n 
URL:https://harmonycentersequim.org/event/advanced-mahjong/2027-12-31/
LOCATION:Harmony Center Sequim\, 223 Hudon Rd\, Sequim\, WA\, 98382\, United States
ORGANIZER;CN="Char Reeves":MAILTO:charreeves0384@outlook.com
END:VEVENT
BEGIN:VEVENT
DTSTART;TZID=America/Los_Angeles:20280107T140000
DTEND;TZID=America/Los_Angeles:20280107T170000
DTSTAMP:20260422T145416
CREATED:20260412T183452Z
LAST-MODIFIED:20260412T183636Z
UID:10011968-1830866400-1830877200@harmonycentersequim.org
SUMMARY:Advanced Mahjong
DESCRIPTION:Ready to take your Mahjong skills to the next level and learn how to score with confidence?  These advanced sessions are designed just for you!  Join us every Friday from 2–5 PM to deepen your strategy\, refine your gameplay\, and master scoring techniques. \n 
URL:https://harmonycentersequim.org/event/advanced-mahjong/2028-01-07/
LOCATION:Harmony Center Sequim\, 223 Hudon Rd\, Sequim\, WA\, 98382\, United States
ORGANIZER;CN="Char Reeves":MAILTO:charreeves0384@outlook.com
END:VEVENT
END:VCALENDAR