BEGIN:VCALENDAR
VERSION:2.0
PRODID:-//Harmony Center Sequim - ECPv6.15.20//NONSGML v1.0//EN
CALSCALE:GREGORIAN
METHOD:PUBLISH
X-WR-CALNAME:Harmony Center Sequim
X-ORIGINAL-URL:https://harmonycentersequim.org
X-WR-CALDESC:Events for Harmony Center Sequim
REFRESH-INTERVAL;VALUE=DURATION:PT1H
X-Robots-Tag:noindex
X-PUBLISHED-TTL:PT1H
BEGIN:VTIMEZONE
TZID:America/Los_Angeles
BEGIN:DAYLIGHT
TZOFFSETFROM:-0800
TZOFFSETTO:-0700
TZNAME:PDT
DTSTART:20260308T100000
END:DAYLIGHT
BEGIN:STANDARD
TZOFFSETFROM:-0700
TZOFFSETTO:-0800
TZNAME:PST
DTSTART:20261101T090000
END:STANDARD
BEGIN:DAYLIGHT
TZOFFSETFROM:-0800
TZOFFSETTO:-0700
TZNAME:PDT
DTSTART:20270314T100000
END:DAYLIGHT
BEGIN:STANDARD
TZOFFSETFROM:-0700
TZOFFSETTO:-0800
TZNAME:PST
DTSTART:20271107T090000
END:STANDARD
BEGIN:DAYLIGHT
TZOFFSETFROM:-0800
TZOFFSETTO:-0700
TZNAME:PDT
DTSTART:20280312T100000
END:DAYLIGHT
BEGIN:STANDARD
TZOFFSETFROM:-0700
TZOFFSETTO:-0800
TZNAME:PST
DTSTART:20281105T090000
END:STANDARD
END:VTIMEZONE
BEGIN:VEVENT
DTSTART;TZID=America/Los_Angeles:20270129T140000
DTEND;TZID=America/Los_Angeles:20270129T170000
DTSTAMP:20260419T142312
CREATED:20260412T183452Z
LAST-MODIFIED:20260412T183636Z
UID:10011919-1801231200-1801242000@harmonycentersequim.org
SUMMARY:Advanced Mahjong
DESCRIPTION:Ready to take your Mahjong skills to the next level and learn how to score with confidence?  These advanced sessions are designed just for you!  Join us every Friday from 2–5 PM to deepen your strategy\, refine your gameplay\, and master scoring techniques. \n 
URL:https://harmonycentersequim.org/event/advanced-mahjong/2027-01-29/
LOCATION:Harmony Center Sequim\, 223 Hudon Rd\, Sequim\, WA\, 98382\, United States
ORGANIZER;CN="Char Reeves":MAILTO:charreeves0384@outlook.com
END:VEVENT
BEGIN:VEVENT
DTSTART;TZID=America/Los_Angeles:20270205T140000
DTEND;TZID=America/Los_Angeles:20270205T170000
DTSTAMP:20260419T142312
CREATED:20260412T183452Z
LAST-MODIFIED:20260412T183636Z
UID:10011920-1801836000-1801846800@harmonycentersequim.org
SUMMARY:Advanced Mahjong
DESCRIPTION:Ready to take your Mahjong skills to the next level and learn how to score with confidence?  These advanced sessions are designed just for you!  Join us every Friday from 2–5 PM to deepen your strategy\, refine your gameplay\, and master scoring techniques. \n 
URL:https://harmonycentersequim.org/event/advanced-mahjong/2027-02-05/
LOCATION:Harmony Center Sequim\, 223 Hudon Rd\, Sequim\, WA\, 98382\, United States
ORGANIZER;CN="Char Reeves":MAILTO:charreeves0384@outlook.com
END:VEVENT
BEGIN:VEVENT
DTSTART;TZID=America/Los_Angeles:20270212T140000
DTEND;TZID=America/Los_Angeles:20270212T170000
DTSTAMP:20260419T142312
CREATED:20260412T183452Z
LAST-MODIFIED:20260412T183636Z
UID:10011921-1802440800-1802451600@harmonycentersequim.org
SUMMARY:Advanced Mahjong
DESCRIPTION:Ready to take your Mahjong skills to the next level and learn how to score with confidence?  These advanced sessions are designed just for you!  Join us every Friday from 2–5 PM to deepen your strategy\, refine your gameplay\, and master scoring techniques. \n 
URL:https://harmonycentersequim.org/event/advanced-mahjong/2027-02-12/
LOCATION:Harmony Center Sequim\, 223 Hudon Rd\, Sequim\, WA\, 98382\, United States
ORGANIZER;CN="Char Reeves":MAILTO:charreeves0384@outlook.com
END:VEVENT
BEGIN:VEVENT
DTSTART;TZID=America/Los_Angeles:20270219T140000
DTEND;TZID=America/Los_Angeles:20270219T170000
DTSTAMP:20260419T142312
CREATED:20260412T183452Z
LAST-MODIFIED:20260412T183636Z
UID:10011922-1803045600-1803056400@harmonycentersequim.org
SUMMARY:Advanced Mahjong
DESCRIPTION:Ready to take your Mahjong skills to the next level and learn how to score with confidence?  These advanced sessions are designed just for you!  Join us every Friday from 2–5 PM to deepen your strategy\, refine your gameplay\, and master scoring techniques. \n 
URL:https://harmonycentersequim.org/event/advanced-mahjong/2027-02-19/
LOCATION:Harmony Center Sequim\, 223 Hudon Rd\, Sequim\, WA\, 98382\, United States
ORGANIZER;CN="Char Reeves":MAILTO:charreeves0384@outlook.com
END:VEVENT
BEGIN:VEVENT
DTSTART;TZID=America/Los_Angeles:20270226T140000
DTEND;TZID=America/Los_Angeles:20270226T170000
DTSTAMP:20260419T142312
CREATED:20260412T183452Z
LAST-MODIFIED:20260412T183636Z
UID:10011923-1803650400-1803661200@harmonycentersequim.org
SUMMARY:Advanced Mahjong
DESCRIPTION:Ready to take your Mahjong skills to the next level and learn how to score with confidence?  These advanced sessions are designed just for you!  Join us every Friday from 2–5 PM to deepen your strategy\, refine your gameplay\, and master scoring techniques. \n 
URL:https://harmonycentersequim.org/event/advanced-mahjong/2027-02-26/
LOCATION:Harmony Center Sequim\, 223 Hudon Rd\, Sequim\, WA\, 98382\, United States
ORGANIZER;CN="Char Reeves":MAILTO:charreeves0384@outlook.com
END:VEVENT
BEGIN:VEVENT
DTSTART;TZID=America/Los_Angeles:20270305T140000
DTEND;TZID=America/Los_Angeles:20270305T170000
DTSTAMP:20260419T142312
CREATED:20260412T183452Z
LAST-MODIFIED:20260412T183636Z
UID:10011924-1804255200-1804266000@harmonycentersequim.org
SUMMARY:Advanced Mahjong
DESCRIPTION:Ready to take your Mahjong skills to the next level and learn how to score with confidence?  These advanced sessions are designed just for you!  Join us every Friday from 2–5 PM to deepen your strategy\, refine your gameplay\, and master scoring techniques. \n 
URL:https://harmonycentersequim.org/event/advanced-mahjong/2027-03-05/
LOCATION:Harmony Center Sequim\, 223 Hudon Rd\, Sequim\, WA\, 98382\, United States
ORGANIZER;CN="Char Reeves":MAILTO:charreeves0384@outlook.com
END:VEVENT
BEGIN:VEVENT
DTSTART;TZID=America/Los_Angeles:20270312T140000
DTEND;TZID=America/Los_Angeles:20270312T170000
DTSTAMP:20260419T142312
CREATED:20260412T183452Z
LAST-MODIFIED:20260412T183636Z
UID:10011925-1804860000-1804870800@harmonycentersequim.org
SUMMARY:Advanced Mahjong
DESCRIPTION:Ready to take your Mahjong skills to the next level and learn how to score with confidence?  These advanced sessions are designed just for you!  Join us every Friday from 2–5 PM to deepen your strategy\, refine your gameplay\, and master scoring techniques. \n 
URL:https://harmonycentersequim.org/event/advanced-mahjong/2027-03-12/
LOCATION:Harmony Center Sequim\, 223 Hudon Rd\, Sequim\, WA\, 98382\, United States
ORGANIZER;CN="Char Reeves":MAILTO:charreeves0384@outlook.com
END:VEVENT
BEGIN:VEVENT
DTSTART;TZID=America/Los_Angeles:20270319T140000
DTEND;TZID=America/Los_Angeles:20270319T170000
DTSTAMP:20260419T142312
CREATED:20260412T183452Z
LAST-MODIFIED:20260412T183636Z
UID:10011926-1805464800-1805475600@harmonycentersequim.org
SUMMARY:Advanced Mahjong
DESCRIPTION:Ready to take your Mahjong skills to the next level and learn how to score with confidence?  These advanced sessions are designed just for you!  Join us every Friday from 2–5 PM to deepen your strategy\, refine your gameplay\, and master scoring techniques. \n 
URL:https://harmonycentersequim.org/event/advanced-mahjong/2027-03-19/
LOCATION:Harmony Center Sequim\, 223 Hudon Rd\, Sequim\, WA\, 98382\, United States
ORGANIZER;CN="Char Reeves":MAILTO:charreeves0384@outlook.com
END:VEVENT
BEGIN:VEVENT
DTSTART;TZID=America/Los_Angeles:20270326T140000
DTEND;TZID=America/Los_Angeles:20270326T170000
DTSTAMP:20260419T142312
CREATED:20260412T183452Z
LAST-MODIFIED:20260412T183636Z
UID:10011927-1806069600-1806080400@harmonycentersequim.org
SUMMARY:Advanced Mahjong
DESCRIPTION:Ready to take your Mahjong skills to the next level and learn how to score with confidence?  These advanced sessions are designed just for you!  Join us every Friday from 2–5 PM to deepen your strategy\, refine your gameplay\, and master scoring techniques. \n 
URL:https://harmonycentersequim.org/event/advanced-mahjong/2027-03-26/
LOCATION:Harmony Center Sequim\, 223 Hudon Rd\, Sequim\, WA\, 98382\, United States
ORGANIZER;CN="Char Reeves":MAILTO:charreeves0384@outlook.com
END:VEVENT
BEGIN:VEVENT
DTSTART;TZID=America/Los_Angeles:20270402T140000
DTEND;TZID=America/Los_Angeles:20270402T170000
DTSTAMP:20260419T142312
CREATED:20260412T183452Z
LAST-MODIFIED:20260412T183636Z
UID:10011928-1806674400-1806685200@harmonycentersequim.org
SUMMARY:Advanced Mahjong
DESCRIPTION:Ready to take your Mahjong skills to the next level and learn how to score with confidence?  These advanced sessions are designed just for you!  Join us every Friday from 2–5 PM to deepen your strategy\, refine your gameplay\, and master scoring techniques. \n 
URL:https://harmonycentersequim.org/event/advanced-mahjong/2027-04-02/
LOCATION:Harmony Center Sequim\, 223 Hudon Rd\, Sequim\, WA\, 98382\, United States
ORGANIZER;CN="Char Reeves":MAILTO:charreeves0384@outlook.com
END:VEVENT
BEGIN:VEVENT
DTSTART;TZID=America/Los_Angeles:20270409T140000
DTEND;TZID=America/Los_Angeles:20270409T170000
DTSTAMP:20260419T142312
CREATED:20260412T183452Z
LAST-MODIFIED:20260412T183636Z
UID:10011929-1807279200-1807290000@harmonycentersequim.org
SUMMARY:Advanced Mahjong
DESCRIPTION:Ready to take your Mahjong skills to the next level and learn how to score with confidence?  These advanced sessions are designed just for you!  Join us every Friday from 2–5 PM to deepen your strategy\, refine your gameplay\, and master scoring techniques. \n 
URL:https://harmonycentersequim.org/event/advanced-mahjong/2027-04-09/
LOCATION:Harmony Center Sequim\, 223 Hudon Rd\, Sequim\, WA\, 98382\, United States
ORGANIZER;CN="Char Reeves":MAILTO:charreeves0384@outlook.com
END:VEVENT
BEGIN:VEVENT
DTSTART;TZID=America/Los_Angeles:20270416T140000
DTEND;TZID=America/Los_Angeles:20270416T170000
DTSTAMP:20260419T142312
CREATED:20260412T183452Z
LAST-MODIFIED:20260412T183636Z
UID:10011930-1807884000-1807894800@harmonycentersequim.org
SUMMARY:Advanced Mahjong
DESCRIPTION:Ready to take your Mahjong skills to the next level and learn how to score with confidence?  These advanced sessions are designed just for you!  Join us every Friday from 2–5 PM to deepen your strategy\, refine your gameplay\, and master scoring techniques. \n 
URL:https://harmonycentersequim.org/event/advanced-mahjong/2027-04-16/
LOCATION:Harmony Center Sequim\, 223 Hudon Rd\, Sequim\, WA\, 98382\, United States
ORGANIZER;CN="Char Reeves":MAILTO:charreeves0384@outlook.com
END:VEVENT
BEGIN:VEVENT
DTSTART;TZID=America/Los_Angeles:20270423T140000
DTEND;TZID=America/Los_Angeles:20270423T170000
DTSTAMP:20260419T142312
CREATED:20260412T183452Z
LAST-MODIFIED:20260412T183636Z
UID:10011931-1808488800-1808499600@harmonycentersequim.org
SUMMARY:Advanced Mahjong
DESCRIPTION:Ready to take your Mahjong skills to the next level and learn how to score with confidence?  These advanced sessions are designed just for you!  Join us every Friday from 2–5 PM to deepen your strategy\, refine your gameplay\, and master scoring techniques. \n 
URL:https://harmonycentersequim.org/event/advanced-mahjong/2027-04-23/
LOCATION:Harmony Center Sequim\, 223 Hudon Rd\, Sequim\, WA\, 98382\, United States
ORGANIZER;CN="Char Reeves":MAILTO:charreeves0384@outlook.com
END:VEVENT
BEGIN:VEVENT
DTSTART;TZID=America/Los_Angeles:20270430T140000
DTEND;TZID=America/Los_Angeles:20270430T170000
DTSTAMP:20260419T142312
CREATED:20260412T183452Z
LAST-MODIFIED:20260412T183636Z
UID:10011932-1809093600-1809104400@harmonycentersequim.org
SUMMARY:Advanced Mahjong
DESCRIPTION:Ready to take your Mahjong skills to the next level and learn how to score with confidence?  These advanced sessions are designed just for you!  Join us every Friday from 2–5 PM to deepen your strategy\, refine your gameplay\, and master scoring techniques. \n 
URL:https://harmonycentersequim.org/event/advanced-mahjong/2027-04-30/
LOCATION:Harmony Center Sequim\, 223 Hudon Rd\, Sequim\, WA\, 98382\, United States
ORGANIZER;CN="Char Reeves":MAILTO:charreeves0384@outlook.com
END:VEVENT
BEGIN:VEVENT
DTSTART;TZID=America/Los_Angeles:20270507T140000
DTEND;TZID=America/Los_Angeles:20270507T170000
DTSTAMP:20260419T142312
CREATED:20260412T183452Z
LAST-MODIFIED:20260412T183636Z
UID:10011933-1809698400-1809709200@harmonycentersequim.org
SUMMARY:Advanced Mahjong
DESCRIPTION:Ready to take your Mahjong skills to the next level and learn how to score with confidence?  These advanced sessions are designed just for you!  Join us every Friday from 2–5 PM to deepen your strategy\, refine your gameplay\, and master scoring techniques. \n 
URL:https://harmonycentersequim.org/event/advanced-mahjong/2027-05-07/
LOCATION:Harmony Center Sequim\, 223 Hudon Rd\, Sequim\, WA\, 98382\, United States
ORGANIZER;CN="Char Reeves":MAILTO:charreeves0384@outlook.com
END:VEVENT
BEGIN:VEVENT
DTSTART;TZID=America/Los_Angeles:20270514T140000
DTEND;TZID=America/Los_Angeles:20270514T170000
DTSTAMP:20260419T142312
CREATED:20260412T183452Z
LAST-MODIFIED:20260412T183636Z
UID:10011934-1810303200-1810314000@harmonycentersequim.org
SUMMARY:Advanced Mahjong
DESCRIPTION:Ready to take your Mahjong skills to the next level and learn how to score with confidence?  These advanced sessions are designed just for you!  Join us every Friday from 2–5 PM to deepen your strategy\, refine your gameplay\, and master scoring techniques. \n 
URL:https://harmonycentersequim.org/event/advanced-mahjong/2027-05-14/
LOCATION:Harmony Center Sequim\, 223 Hudon Rd\, Sequim\, WA\, 98382\, United States
ORGANIZER;CN="Char Reeves":MAILTO:charreeves0384@outlook.com
END:VEVENT
BEGIN:VEVENT
DTSTART;TZID=America/Los_Angeles:20270521T140000
DTEND;TZID=America/Los_Angeles:20270521T170000
DTSTAMP:20260419T142312
CREATED:20260412T183452Z
LAST-MODIFIED:20260412T183636Z
UID:10011935-1810908000-1810918800@harmonycentersequim.org
SUMMARY:Advanced Mahjong
DESCRIPTION:Ready to take your Mahjong skills to the next level and learn how to score with confidence?  These advanced sessions are designed just for you!  Join us every Friday from 2–5 PM to deepen your strategy\, refine your gameplay\, and master scoring techniques. \n 
URL:https://harmonycentersequim.org/event/advanced-mahjong/2027-05-21/
LOCATION:Harmony Center Sequim\, 223 Hudon Rd\, Sequim\, WA\, 98382\, United States
ORGANIZER;CN="Char Reeves":MAILTO:charreeves0384@outlook.com
END:VEVENT
BEGIN:VEVENT
DTSTART;TZID=America/Los_Angeles:20270528T140000
DTEND;TZID=America/Los_Angeles:20270528T170000
DTSTAMP:20260419T142312
CREATED:20260412T183452Z
LAST-MODIFIED:20260412T183636Z
UID:10011936-1811512800-1811523600@harmonycentersequim.org
SUMMARY:Advanced Mahjong
DESCRIPTION:Ready to take your Mahjong skills to the next level and learn how to score with confidence?  These advanced sessions are designed just for you!  Join us every Friday from 2–5 PM to deepen your strategy\, refine your gameplay\, and master scoring techniques. \n 
URL:https://harmonycentersequim.org/event/advanced-mahjong/2027-05-28/
LOCATION:Harmony Center Sequim\, 223 Hudon Rd\, Sequim\, WA\, 98382\, United States
ORGANIZER;CN="Char Reeves":MAILTO:charreeves0384@outlook.com
END:VEVENT
BEGIN:VEVENT
DTSTART;TZID=America/Los_Angeles:20270604T140000
DTEND;TZID=America/Los_Angeles:20270604T170000
DTSTAMP:20260419T142312
CREATED:20260412T183452Z
LAST-MODIFIED:20260412T183636Z
UID:10011937-1812117600-1812128400@harmonycentersequim.org
SUMMARY:Advanced Mahjong
DESCRIPTION:Ready to take your Mahjong skills to the next level and learn how to score with confidence?  These advanced sessions are designed just for you!  Join us every Friday from 2–5 PM to deepen your strategy\, refine your gameplay\, and master scoring techniques. \n 
URL:https://harmonycentersequim.org/event/advanced-mahjong/2027-06-04/
LOCATION:Harmony Center Sequim\, 223 Hudon Rd\, Sequim\, WA\, 98382\, United States
ORGANIZER;CN="Char Reeves":MAILTO:charreeves0384@outlook.com
END:VEVENT
BEGIN:VEVENT
DTSTART;TZID=America/Los_Angeles:20270611T140000
DTEND;TZID=America/Los_Angeles:20270611T170000
DTSTAMP:20260419T142312
CREATED:20260412T183452Z
LAST-MODIFIED:20260412T183636Z
UID:10011938-1812722400-1812733200@harmonycentersequim.org
SUMMARY:Advanced Mahjong
DESCRIPTION:Ready to take your Mahjong skills to the next level and learn how to score with confidence?  These advanced sessions are designed just for you!  Join us every Friday from 2–5 PM to deepen your strategy\, refine your gameplay\, and master scoring techniques. \n 
URL:https://harmonycentersequim.org/event/advanced-mahjong/2027-06-11/
LOCATION:Harmony Center Sequim\, 223 Hudon Rd\, Sequim\, WA\, 98382\, United States
ORGANIZER;CN="Char Reeves":MAILTO:charreeves0384@outlook.com
END:VEVENT
BEGIN:VEVENT
DTSTART;TZID=America/Los_Angeles:20270618T140000
DTEND;TZID=America/Los_Angeles:20270618T170000
DTSTAMP:20260419T142312
CREATED:20260412T183452Z
LAST-MODIFIED:20260412T183636Z
UID:10011939-1813327200-1813338000@harmonycentersequim.org
SUMMARY:Advanced Mahjong
DESCRIPTION:Ready to take your Mahjong skills to the next level and learn how to score with confidence?  These advanced sessions are designed just for you!  Join us every Friday from 2–5 PM to deepen your strategy\, refine your gameplay\, and master scoring techniques. \n 
URL:https://harmonycentersequim.org/event/advanced-mahjong/2027-06-18/
LOCATION:Harmony Center Sequim\, 223 Hudon Rd\, Sequim\, WA\, 98382\, United States
ORGANIZER;CN="Char Reeves":MAILTO:charreeves0384@outlook.com
END:VEVENT
BEGIN:VEVENT
DTSTART;TZID=America/Los_Angeles:20270625T140000
DTEND;TZID=America/Los_Angeles:20270625T170000
DTSTAMP:20260419T142312
CREATED:20260412T183452Z
LAST-MODIFIED:20260412T183636Z
UID:10011940-1813932000-1813942800@harmonycentersequim.org
SUMMARY:Advanced Mahjong
DESCRIPTION:Ready to take your Mahjong skills to the next level and learn how to score with confidence?  These advanced sessions are designed just for you!  Join us every Friday from 2–5 PM to deepen your strategy\, refine your gameplay\, and master scoring techniques. \n 
URL:https://harmonycentersequim.org/event/advanced-mahjong/2027-06-25/
LOCATION:Harmony Center Sequim\, 223 Hudon Rd\, Sequim\, WA\, 98382\, United States
ORGANIZER;CN="Char Reeves":MAILTO:charreeves0384@outlook.com
END:VEVENT
BEGIN:VEVENT
DTSTART;TZID=America/Los_Angeles:20270702T140000
DTEND;TZID=America/Los_Angeles:20270702T170000
DTSTAMP:20260419T142312
CREATED:20260412T183452Z
LAST-MODIFIED:20260412T183636Z
UID:10011941-1814536800-1814547600@harmonycentersequim.org
SUMMARY:Advanced Mahjong
DESCRIPTION:Ready to take your Mahjong skills to the next level and learn how to score with confidence?  These advanced sessions are designed just for you!  Join us every Friday from 2–5 PM to deepen your strategy\, refine your gameplay\, and master scoring techniques. \n 
URL:https://harmonycentersequim.org/event/advanced-mahjong/2027-07-02/
LOCATION:Harmony Center Sequim\, 223 Hudon Rd\, Sequim\, WA\, 98382\, United States
ORGANIZER;CN="Char Reeves":MAILTO:charreeves0384@outlook.com
END:VEVENT
BEGIN:VEVENT
DTSTART;TZID=America/Los_Angeles:20270709T140000
DTEND;TZID=America/Los_Angeles:20270709T170000
DTSTAMP:20260419T142312
CREATED:20260412T183452Z
LAST-MODIFIED:20260412T183636Z
UID:10011942-1815141600-1815152400@harmonycentersequim.org
SUMMARY:Advanced Mahjong
DESCRIPTION:Ready to take your Mahjong skills to the next level and learn how to score with confidence?  These advanced sessions are designed just for you!  Join us every Friday from 2–5 PM to deepen your strategy\, refine your gameplay\, and master scoring techniques. \n 
URL:https://harmonycentersequim.org/event/advanced-mahjong/2027-07-09/
LOCATION:Harmony Center Sequim\, 223 Hudon Rd\, Sequim\, WA\, 98382\, United States
ORGANIZER;CN="Char Reeves":MAILTO:charreeves0384@outlook.com
END:VEVENT
BEGIN:VEVENT
DTSTART;TZID=America/Los_Angeles:20270716T140000
DTEND;TZID=America/Los_Angeles:20270716T170000
DTSTAMP:20260419T142312
CREATED:20260412T183452Z
LAST-MODIFIED:20260412T183636Z
UID:10011943-1815746400-1815757200@harmonycentersequim.org
SUMMARY:Advanced Mahjong
DESCRIPTION:Ready to take your Mahjong skills to the next level and learn how to score with confidence?  These advanced sessions are designed just for you!  Join us every Friday from 2–5 PM to deepen your strategy\, refine your gameplay\, and master scoring techniques. \n 
URL:https://harmonycentersequim.org/event/advanced-mahjong/2027-07-16/
LOCATION:Harmony Center Sequim\, 223 Hudon Rd\, Sequim\, WA\, 98382\, United States
ORGANIZER;CN="Char Reeves":MAILTO:charreeves0384@outlook.com
END:VEVENT
BEGIN:VEVENT
DTSTART;TZID=America/Los_Angeles:20270723T140000
DTEND;TZID=America/Los_Angeles:20270723T170000
DTSTAMP:20260419T142312
CREATED:20260412T183452Z
LAST-MODIFIED:20260412T183636Z
UID:10011944-1816351200-1816362000@harmonycentersequim.org
SUMMARY:Advanced Mahjong
DESCRIPTION:Ready to take your Mahjong skills to the next level and learn how to score with confidence?  These advanced sessions are designed just for you!  Join us every Friday from 2–5 PM to deepen your strategy\, refine your gameplay\, and master scoring techniques. \n 
URL:https://harmonycentersequim.org/event/advanced-mahjong/2027-07-23/
LOCATION:Harmony Center Sequim\, 223 Hudon Rd\, Sequim\, WA\, 98382\, United States
ORGANIZER;CN="Char Reeves":MAILTO:charreeves0384@outlook.com
END:VEVENT
BEGIN:VEVENT
DTSTART;TZID=America/Los_Angeles:20270730T140000
DTEND;TZID=America/Los_Angeles:20270730T170000
DTSTAMP:20260419T142312
CREATED:20260412T183452Z
LAST-MODIFIED:20260412T183636Z
UID:10011945-1816956000-1816966800@harmonycentersequim.org
SUMMARY:Advanced Mahjong
DESCRIPTION:Ready to take your Mahjong skills to the next level and learn how to score with confidence?  These advanced sessions are designed just for you!  Join us every Friday from 2–5 PM to deepen your strategy\, refine your gameplay\, and master scoring techniques. \n 
URL:https://harmonycentersequim.org/event/advanced-mahjong/2027-07-30/
LOCATION:Harmony Center Sequim\, 223 Hudon Rd\, Sequim\, WA\, 98382\, United States
ORGANIZER;CN="Char Reeves":MAILTO:charreeves0384@outlook.com
END:VEVENT
BEGIN:VEVENT
DTSTART;TZID=America/Los_Angeles:20270806T140000
DTEND;TZID=America/Los_Angeles:20270806T170000
DTSTAMP:20260419T142312
CREATED:20260412T183452Z
LAST-MODIFIED:20260412T183636Z
UID:10011946-1817560800-1817571600@harmonycentersequim.org
SUMMARY:Advanced Mahjong
DESCRIPTION:Ready to take your Mahjong skills to the next level and learn how to score with confidence?  These advanced sessions are designed just for you!  Join us every Friday from 2–5 PM to deepen your strategy\, refine your gameplay\, and master scoring techniques. \n 
URL:https://harmonycentersequim.org/event/advanced-mahjong/2027-08-06/
LOCATION:Harmony Center Sequim\, 223 Hudon Rd\, Sequim\, WA\, 98382\, United States
ORGANIZER;CN="Char Reeves":MAILTO:charreeves0384@outlook.com
END:VEVENT
BEGIN:VEVENT
DTSTART;TZID=America/Los_Angeles:20270813T140000
DTEND;TZID=America/Los_Angeles:20270813T170000
DTSTAMP:20260419T142312
CREATED:20260412T183452Z
LAST-MODIFIED:20260412T183636Z
UID:10011947-1818165600-1818176400@harmonycentersequim.org
SUMMARY:Advanced Mahjong
DESCRIPTION:Ready to take your Mahjong skills to the next level and learn how to score with confidence?  These advanced sessions are designed just for you!  Join us every Friday from 2–5 PM to deepen your strategy\, refine your gameplay\, and master scoring techniques. \n 
URL:https://harmonycentersequim.org/event/advanced-mahjong/2027-08-13/
LOCATION:Harmony Center Sequim\, 223 Hudon Rd\, Sequim\, WA\, 98382\, United States
ORGANIZER;CN="Char Reeves":MAILTO:charreeves0384@outlook.com
END:VEVENT
BEGIN:VEVENT
DTSTART;TZID=America/Los_Angeles:20270820T140000
DTEND;TZID=America/Los_Angeles:20270820T170000
DTSTAMP:20260419T142312
CREATED:20260412T183452Z
LAST-MODIFIED:20260412T183636Z
UID:10011948-1818770400-1818781200@harmonycentersequim.org
SUMMARY:Advanced Mahjong
DESCRIPTION:Ready to take your Mahjong skills to the next level and learn how to score with confidence?  These advanced sessions are designed just for you!  Join us every Friday from 2–5 PM to deepen your strategy\, refine your gameplay\, and master scoring techniques. \n 
URL:https://harmonycentersequim.org/event/advanced-mahjong/2027-08-20/
LOCATION:Harmony Center Sequim\, 223 Hudon Rd\, Sequim\, WA\, 98382\, United States
ORGANIZER;CN="Char Reeves":MAILTO:charreeves0384@outlook.com
END:VEVENT
END:VCALENDAR