BEGIN:VCALENDAR
VERSION:2.0
PRODID:-//Harmony Center Sequim - ECPv6.15.20//NONSGML v1.0//EN
CALSCALE:GREGORIAN
METHOD:PUBLISH
X-WR-CALNAME:Harmony Center Sequim
X-ORIGINAL-URL:https://harmonycentersequim.org
X-WR-CALDESC:Events for Harmony Center Sequim
REFRESH-INTERVAL;VALUE=DURATION:PT1H
X-Robots-Tag:noindex
X-PUBLISHED-TTL:PT1H
BEGIN:VTIMEZONE
TZID:America/Los_Angeles
BEGIN:DAYLIGHT
TZOFFSETFROM:-0800
TZOFFSETTO:-0700
TZNAME:PDT
DTSTART:20240310T100000
END:DAYLIGHT
BEGIN:STANDARD
TZOFFSETFROM:-0700
TZOFFSETTO:-0800
TZNAME:PST
DTSTART:20241103T090000
END:STANDARD
BEGIN:DAYLIGHT
TZOFFSETFROM:-0800
TZOFFSETTO:-0700
TZNAME:PDT
DTSTART:20250309T100000
END:DAYLIGHT
BEGIN:STANDARD
TZOFFSETFROM:-0700
TZOFFSETTO:-0800
TZNAME:PST
DTSTART:20251102T090000
END:STANDARD
BEGIN:DAYLIGHT
TZOFFSETFROM:-0800
TZOFFSETTO:-0700
TZNAME:PDT
DTSTART:20260308T100000
END:DAYLIGHT
BEGIN:STANDARD
TZOFFSETFROM:-0700
TZOFFSETTO:-0800
TZNAME:PST
DTSTART:20261101T090000
END:STANDARD
END:VTIMEZONE
BEGIN:VEVENT
DTSTART;TZID=America/Los_Angeles:20250716T123000
DTEND;TZID=America/Los_Angeles:20250716T153000
DTSTAMP:20260420T124922
CREATED:20240906T150914Z
LAST-MODIFIED:20251103T172212Z
UID:10010801-1752669000-1752679800@harmonycentersequim.org
SUMMARY:American Mahjong - Wednesday
DESCRIPTION:  \n  \nIt’s easy to learn the basics of Mahjong. The excitement lies in decisions and strategies in every hand. Learning and playing American Standard Mahjong with enthusiastic players is a treat. Training is available. \nFor more information\, open this pdf file: \nMahj Info
URL:https://harmonycentersequim.org/event/american-mahjong-wednesday/2025-07-16/
LOCATION:Harmony Center Sequim\, 223 Hudon Rd\, Sequim\, WA\, 98382\, United States
CATEGORIES:FUN AND GAMES
ATTACH;FMTTYPE=image/jpeg:https://harmonycentersequim.org/wp-content/uploads/2023/06/mahjong-1.jpg
ORGANIZER;CN="Cindi Hueth - Mahjong":MAILTO:cjhueth@rocketmail.com
END:VEVENT
BEGIN:VEVENT
DTSTART;TZID=America/Los_Angeles:20250715T183000
DTEND;TZID=America/Los_Angeles:20250715T193000
DTSTAMP:20260420T124922
CREATED:20230606T211334Z
LAST-MODIFIED:20241013T183847Z
UID:10004629-1752604200-1752607800@harmonycentersequim.org
SUMMARY:TED Circle Tuesday
DESCRIPTION:  \nJoyful Harmony Unlimited joins thousands of other TED Circles to watch and discuss TED Talks.  We consider each other’s perspectives\, discover takeaways\, and create a global conversation. \nYOU can be a force for good!  We have openings to host TED Talk Tuesday. As the host of this event\, you’ll choose a theme of anything that interests you- like happiness\, discoveries\, music\, etc.  Find 2-3 TED talks about your theme.  Get our Zoom link\, show the videos\, and host a discussion of no more than 6 people. \nThis program is presented online to folks attending in CA\, WA and OR. \nContact our office to set a date:  Cassandra@joyfulharmony.org
URL:https://harmonycentersequim.org/event/ted-circle-tuesday-7/2025-07-15/
LOCATION:WA
CATEGORIES:DISCUSSION,TED Circle Tuesday
ATTACH;FMTTYPE=image/jpeg:https://harmonycentersequim.org/wp-content/uploads/2023/06/TED-stage-1-ENbOEw.tmp_.jpg
ORGANIZER;CN="Harmony Center of Sequim":MAILTO:cassandra@joyfulharmony.org
END:VEVENT
BEGIN:VEVENT
DTSTART;TZID=America/Los_Angeles:20250710T120000
DTEND;TZID=America/Los_Angeles:20250710T140000
DTSTAMP:20260420T124922
CREATED:20240602T212408Z
LAST-MODIFIED:20250313T012344Z
UID:10009214-1752148800-1752156000@harmonycentersequim.org
SUMMARY:Sequim Picklers Bunco
DESCRIPTION:Join this group for monthly Bunco games. \nThis is a private group. Different people host during different months. \nPlease RSVP if you plan to attend.
URL:https://harmonycentersequim.org/event/sequim-picklers-bunco-2/2025-07-10/
LOCATION:Harmony Center Sequim\, 223 Hudon Rd\, Sequim\, WA\, 98382\, United States
ATTACH;FMTTYPE=image/jpeg:https://harmonycentersequim.org/wp-content/uploads/2023/07/JHU-Bunco-Icon.jpg
ORGANIZER;CN="Char Reeves":MAILTO:charreeves0384@outlook.com
END:VEVENT
BEGIN:VEVENT
DTSTART;TZID=America/Los_Angeles:20250709T123000
DTEND;TZID=America/Los_Angeles:20250709T153000
DTSTAMP:20260420T124922
CREATED:20240906T150914Z
LAST-MODIFIED:20251103T172212Z
UID:10010800-1752064200-1752075000@harmonycentersequim.org
SUMMARY:American Mahjong - Wednesday
DESCRIPTION:  \n  \nIt’s easy to learn the basics of Mahjong. The excitement lies in decisions and strategies in every hand. Learning and playing American Standard Mahjong with enthusiastic players is a treat. Training is available. \nFor more information\, open this pdf file: \nMahj Info
URL:https://harmonycentersequim.org/event/american-mahjong-wednesday/2025-07-09/
LOCATION:Harmony Center Sequim\, 223 Hudon Rd\, Sequim\, WA\, 98382\, United States
CATEGORIES:FUN AND GAMES
ATTACH;FMTTYPE=image/jpeg:https://harmonycentersequim.org/wp-content/uploads/2023/06/mahjong-1.jpg
ORGANIZER;CN="Cindi Hueth - Mahjong":MAILTO:cjhueth@rocketmail.com
END:VEVENT
BEGIN:VEVENT
DTSTART;TZID=America/Los_Angeles:20250708T170000
DTEND;TZID=America/Los_Angeles:20250708T200000
DTSTAMP:20260420T124922
CREATED:20231024T170006Z
LAST-MODIFIED:20250502T205340Z
UID:10005218-1751994000-1752004800@harmonycentersequim.org
SUMMARY:Sequim Bunco Babes!
DESCRIPTION:We are a group of 16 ladies that meet monthly to play a fast and friendly game of Bunco.  We have a great time socializing and sharing snacks with lots of laughter.  If you would like to be on our substitute players list to fill-in when we have a vacancy or to fill a spot when we have attrition\, please click on the event name and provide your name\, number\, and email address.  Cost is $5 per event\, returned to players in the form of prizes.
URL:https://harmonycentersequim.org/event/sequim-bunco-babes/2025-07-08/
LOCATION:Harmony Center Sequim\, 223 Hudon Rd\, Sequim\, WA\, 98382\, United States
CATEGORIES:FUN AND GAMES
ATTACH;FMTTYPE=image/jpeg:https://harmonycentersequim.org/wp-content/uploads/2023/07/JHU-Bunco-Icon.jpg
END:VEVENT
BEGIN:VEVENT
DTSTART;TZID=America/Los_Angeles:20250702T123000
DTEND;TZID=America/Los_Angeles:20250702T153000
DTSTAMP:20260420T124922
CREATED:20240906T150914Z
LAST-MODIFIED:20251103T172212Z
UID:10010799-1751459400-1751470200@harmonycentersequim.org
SUMMARY:American Mahjong - Wednesday
DESCRIPTION:  \n  \nIt’s easy to learn the basics of Mahjong. The excitement lies in decisions and strategies in every hand. Learning and playing American Standard Mahjong with enthusiastic players is a treat. Training is available. \nFor more information\, open this pdf file: \nMahj Info
URL:https://harmonycentersequim.org/event/american-mahjong-wednesday/2025-07-02/
LOCATION:Harmony Center Sequim\, 223 Hudon Rd\, Sequim\, WA\, 98382\, United States
CATEGORIES:FUN AND GAMES
ATTACH;FMTTYPE=image/jpeg:https://harmonycentersequim.org/wp-content/uploads/2023/06/mahjong-1.jpg
ORGANIZER;CN="Cindi Hueth - Mahjong":MAILTO:cjhueth@rocketmail.com
END:VEVENT
BEGIN:VEVENT
DTSTART;TZID=America/Los_Angeles:20250625T123000
DTEND;TZID=America/Los_Angeles:20250625T153000
DTSTAMP:20260420T124922
CREATED:20240906T150914Z
LAST-MODIFIED:20251103T172212Z
UID:10010798-1750854600-1750865400@harmonycentersequim.org
SUMMARY:American Mahjong - Wednesday
DESCRIPTION:  \n  \nIt’s easy to learn the basics of Mahjong. The excitement lies in decisions and strategies in every hand. Learning and playing American Standard Mahjong with enthusiastic players is a treat. Training is available. \nFor more information\, open this pdf file: \nMahj Info
URL:https://harmonycentersequim.org/event/american-mahjong-wednesday/2025-06-25/
LOCATION:Harmony Center Sequim\, 223 Hudon Rd\, Sequim\, WA\, 98382\, United States
CATEGORIES:FUN AND GAMES
ATTACH;FMTTYPE=image/jpeg:https://harmonycentersequim.org/wp-content/uploads/2023/06/mahjong-1.jpg
ORGANIZER;CN="Cindi Hueth - Mahjong":MAILTO:cjhueth@rocketmail.com
END:VEVENT
BEGIN:VEVENT
DTSTART;TZID=America/Los_Angeles:20250623T083000
DTEND;TZID=America/Los_Angeles:20250623T120000
DTSTAMP:20260420T124922
CREATED:20250620T053724Z
LAST-MODIFIED:20250620T053724Z
UID:10009525-1750667400-1750680000@harmonycentersequim.org
SUMMARY:Sequim Schoolboard Retreat
DESCRIPTION:Schoolboard retreat.
URL:https://harmonycentersequim.org/event/sequim-schoolboard-retreat/
LOCATION:Harmony Center Sequim\, 223 Hudon Rd\, Sequim\, WA\, 98382\, United States
END:VEVENT
BEGIN:VEVENT
DTSTART;TZID=America/Los_Angeles:20250618T123000
DTEND;TZID=America/Los_Angeles:20250618T153000
DTSTAMP:20260420T124922
CREATED:20240906T150914Z
LAST-MODIFIED:20251103T172212Z
UID:10010797-1750249800-1750260600@harmonycentersequim.org
SUMMARY:American Mahjong - Wednesday
DESCRIPTION:  \n  \nIt’s easy to learn the basics of Mahjong. The excitement lies in decisions and strategies in every hand. Learning and playing American Standard Mahjong with enthusiastic players is a treat. Training is available. \nFor more information\, open this pdf file: \nMahj Info
URL:https://harmonycentersequim.org/event/american-mahjong-wednesday/2025-06-18/
LOCATION:Harmony Center Sequim\, 223 Hudon Rd\, Sequim\, WA\, 98382\, United States
CATEGORIES:FUN AND GAMES
ATTACH;FMTTYPE=image/jpeg:https://harmonycentersequim.org/wp-content/uploads/2023/06/mahjong-1.jpg
ORGANIZER;CN="Cindi Hueth - Mahjong":MAILTO:cjhueth@rocketmail.com
END:VEVENT
BEGIN:VEVENT
DTSTART;TZID=America/Los_Angeles:20250617T183000
DTEND;TZID=America/Los_Angeles:20250617T193000
DTSTAMP:20260420T124922
CREATED:20230606T211334Z
LAST-MODIFIED:20241013T183847Z
UID:10004628-1750185000-1750188600@harmonycentersequim.org
SUMMARY:TED Circle Tuesday
DESCRIPTION:  \nJoyful Harmony Unlimited joins thousands of other TED Circles to watch and discuss TED Talks.  We consider each other’s perspectives\, discover takeaways\, and create a global conversation. \nYOU can be a force for good!  We have openings to host TED Talk Tuesday. As the host of this event\, you’ll choose a theme of anything that interests you- like happiness\, discoveries\, music\, etc.  Find 2-3 TED talks about your theme.  Get our Zoom link\, show the videos\, and host a discussion of no more than 6 people. \nThis program is presented online to folks attending in CA\, WA and OR. \nContact our office to set a date:  Cassandra@joyfulharmony.org
URL:https://harmonycentersequim.org/event/ted-circle-tuesday-7/2025-06-17/
LOCATION:WA
CATEGORIES:DISCUSSION,TED Circle Tuesday
ATTACH;FMTTYPE=image/jpeg:https://harmonycentersequim.org/wp-content/uploads/2023/06/TED-stage-1-ENbOEw.tmp_.jpg
ORGANIZER;CN="Harmony Center of Sequim":MAILTO:cassandra@joyfulharmony.org
END:VEVENT
BEGIN:VEVENT
DTSTART;TZID=America/Los_Angeles:20250612T120000
DTEND;TZID=America/Los_Angeles:20250612T140000
DTSTAMP:20260420T124922
CREATED:20240602T212408Z
LAST-MODIFIED:20250313T012344Z
UID:10009213-1749729600-1749736800@harmonycentersequim.org
SUMMARY:Sequim Picklers Bunco
DESCRIPTION:Join this group for monthly Bunco games. \nThis is a private group. Different people host during different months. \nPlease RSVP if you plan to attend.
URL:https://harmonycentersequim.org/event/sequim-picklers-bunco-2/2025-06-12/
LOCATION:Harmony Center Sequim\, 223 Hudon Rd\, Sequim\, WA\, 98382\, United States
ATTACH;FMTTYPE=image/jpeg:https://harmonycentersequim.org/wp-content/uploads/2023/07/JHU-Bunco-Icon.jpg
ORGANIZER;CN="Char Reeves":MAILTO:charreeves0384@outlook.com
END:VEVENT
BEGIN:VEVENT
DTSTART;TZID=America/Los_Angeles:20250611T123000
DTEND;TZID=America/Los_Angeles:20250611T153000
DTSTAMP:20260420T124922
CREATED:20240906T150914Z
LAST-MODIFIED:20251103T172212Z
UID:10010796-1749645000-1749655800@harmonycentersequim.org
SUMMARY:American Mahjong - Wednesday
DESCRIPTION:  \n  \nIt’s easy to learn the basics of Mahjong. The excitement lies in decisions and strategies in every hand. Learning and playing American Standard Mahjong with enthusiastic players is a treat. Training is available. \nFor more information\, open this pdf file: \nMahj Info
URL:https://harmonycentersequim.org/event/american-mahjong-wednesday/2025-06-11/
LOCATION:Harmony Center Sequim\, 223 Hudon Rd\, Sequim\, WA\, 98382\, United States
CATEGORIES:FUN AND GAMES
ATTACH;FMTTYPE=image/jpeg:https://harmonycentersequim.org/wp-content/uploads/2023/06/mahjong-1.jpg
ORGANIZER;CN="Cindi Hueth - Mahjong":MAILTO:cjhueth@rocketmail.com
END:VEVENT
BEGIN:VEVENT
DTSTART;TZID=America/Los_Angeles:20250610T170000
DTEND;TZID=America/Los_Angeles:20250610T200000
DTSTAMP:20260420T124922
CREATED:20231024T170006Z
LAST-MODIFIED:20250502T205340Z
UID:10005217-1749574800-1749585600@harmonycentersequim.org
SUMMARY:Sequim Bunco Babes!
DESCRIPTION:We are a group of 16 ladies that meet monthly to play a fast and friendly game of Bunco.  We have a great time socializing and sharing snacks with lots of laughter.  If you would like to be on our substitute players list to fill-in when we have a vacancy or to fill a spot when we have attrition\, please click on the event name and provide your name\, number\, and email address.  Cost is $5 per event\, returned to players in the form of prizes.
URL:https://harmonycentersequim.org/event/sequim-bunco-babes/2025-06-10/
LOCATION:Harmony Center Sequim\, 223 Hudon Rd\, Sequim\, WA\, 98382\, United States
CATEGORIES:FUN AND GAMES
ATTACH;FMTTYPE=image/jpeg:https://harmonycentersequim.org/wp-content/uploads/2023/07/JHU-Bunco-Icon.jpg
END:VEVENT
BEGIN:VEVENT
DTSTART;TZID=America/Los_Angeles:20250604T123000
DTEND;TZID=America/Los_Angeles:20250604T153000
DTSTAMP:20260420T124922
CREATED:20240906T150914Z
LAST-MODIFIED:20251103T172212Z
UID:10010795-1749040200-1749051000@harmonycentersequim.org
SUMMARY:American Mahjong - Wednesday
DESCRIPTION:  \n  \nIt’s easy to learn the basics of Mahjong. The excitement lies in decisions and strategies in every hand. Learning and playing American Standard Mahjong with enthusiastic players is a treat. Training is available. \nFor more information\, open this pdf file: \nMahj Info
URL:https://harmonycentersequim.org/event/american-mahjong-wednesday/2025-06-04/
LOCATION:Harmony Center Sequim\, 223 Hudon Rd\, Sequim\, WA\, 98382\, United States
CATEGORIES:FUN AND GAMES
ATTACH;FMTTYPE=image/jpeg:https://harmonycentersequim.org/wp-content/uploads/2023/06/mahjong-1.jpg
ORGANIZER;CN="Cindi Hueth - Mahjong":MAILTO:cjhueth@rocketmail.com
END:VEVENT
BEGIN:VEVENT
DTSTART;TZID=America/Los_Angeles:20250531T123000
DTEND;TZID=America/Los_Angeles:20250531T140000
DTSTAMP:20260420T124922
CREATED:20250529T172102Z
LAST-MODIFIED:20250529T172102Z
UID:10009478-1748694600-1748700000@harmonycentersequim.org
SUMMARY:Painting Peace Rocks
DESCRIPTION:Join us to paint Peace Rocks. \nPlease RSVP
URL:https://harmonycentersequim.org/event/painting-peace-rocks/
LOCATION:Harmony Center Sequim\, 223 Hudon Rd\, Sequim\, WA\, 98382\, United States
ATTACH;FMTTYPE=image/jpeg:https://harmonycentersequim.org/wp-content/uploads/2025/05/peace-rocks.jpg
ORGANIZER;CN="Cassandra Cockrill":MAILTO:cassandra@joyfulharmony.org
END:VEVENT
BEGIN:VEVENT
DTSTART;TZID=America/Los_Angeles:20250528T123000
DTEND;TZID=America/Los_Angeles:20250528T153000
DTSTAMP:20260420T124922
CREATED:20240906T150914Z
LAST-MODIFIED:20251103T172212Z
UID:10010794-1748435400-1748446200@harmonycentersequim.org
SUMMARY:American Mahjong - Wednesday
DESCRIPTION:  \n  \nIt’s easy to learn the basics of Mahjong. The excitement lies in decisions and strategies in every hand. Learning and playing American Standard Mahjong with enthusiastic players is a treat. Training is available. \nFor more information\, open this pdf file: \nMahj Info
URL:https://harmonycentersequim.org/event/american-mahjong-wednesday/2025-05-28/
LOCATION:Harmony Center Sequim\, 223 Hudon Rd\, Sequim\, WA\, 98382\, United States
CATEGORIES:FUN AND GAMES
ATTACH;FMTTYPE=image/jpeg:https://harmonycentersequim.org/wp-content/uploads/2023/06/mahjong-1.jpg
ORGANIZER;CN="Cindi Hueth - Mahjong":MAILTO:cjhueth@rocketmail.com
END:VEVENT
BEGIN:VEVENT
DTSTART;TZID=America/Los_Angeles:20250521T123000
DTEND;TZID=America/Los_Angeles:20250521T153000
DTSTAMP:20260420T124922
CREATED:20240906T150914Z
LAST-MODIFIED:20251103T172212Z
UID:10010793-1747830600-1747841400@harmonycentersequim.org
SUMMARY:American Mahjong - Wednesday
DESCRIPTION:  \n  \nIt’s easy to learn the basics of Mahjong. The excitement lies in decisions and strategies in every hand. Learning and playing American Standard Mahjong with enthusiastic players is a treat. Training is available. \nFor more information\, open this pdf file: \nMahj Info
URL:https://harmonycentersequim.org/event/american-mahjong-wednesday/2025-05-21/
LOCATION:Harmony Center Sequim\, 223 Hudon Rd\, Sequim\, WA\, 98382\, United States
CATEGORIES:FUN AND GAMES
ATTACH;FMTTYPE=image/jpeg:https://harmonycentersequim.org/wp-content/uploads/2023/06/mahjong-1.jpg
ORGANIZER;CN="Cindi Hueth - Mahjong":MAILTO:cjhueth@rocketmail.com
END:VEVENT
BEGIN:VEVENT
DTSTART;TZID=America/Los_Angeles:20250520T183000
DTEND;TZID=America/Los_Angeles:20250520T193000
DTSTAMP:20260420T124922
CREATED:20230606T211334Z
LAST-MODIFIED:20241013T183847Z
UID:10004627-1747765800-1747769400@harmonycentersequim.org
SUMMARY:TED Circle Tuesday
DESCRIPTION:  \nJoyful Harmony Unlimited joins thousands of other TED Circles to watch and discuss TED Talks.  We consider each other’s perspectives\, discover takeaways\, and create a global conversation. \nYOU can be a force for good!  We have openings to host TED Talk Tuesday. As the host of this event\, you’ll choose a theme of anything that interests you- like happiness\, discoveries\, music\, etc.  Find 2-3 TED talks about your theme.  Get our Zoom link\, show the videos\, and host a discussion of no more than 6 people. \nThis program is presented online to folks attending in CA\, WA and OR. \nContact our office to set a date:  Cassandra@joyfulharmony.org
URL:https://harmonycentersequim.org/event/ted-circle-tuesday-7/2025-05-20/
LOCATION:WA
CATEGORIES:DISCUSSION,TED Circle Tuesday
ATTACH;FMTTYPE=image/jpeg:https://harmonycentersequim.org/wp-content/uploads/2023/06/TED-stage-1-ENbOEw.tmp_.jpg
ORGANIZER;CN="Harmony Center of Sequim":MAILTO:cassandra@joyfulharmony.org
END:VEVENT
BEGIN:VEVENT
DTSTART;TZID=America/Los_Angeles:20250520T100000
DTEND;TZID=America/Los_Angeles:20250520T120000
DTSTAMP:20260420T124922
CREATED:20250425T190446Z
LAST-MODIFIED:20250425T190446Z
UID:10009366-1747735200-1747742400@harmonycentersequim.org
SUMMARY:Ethels playing games
DESCRIPTION:A private group of Ethels (10-15) will be playing games.
URL:https://harmonycentersequim.org/event/ethels-playing-games/
LOCATION:Harmony Center Sequim\, 223 Hudon Rd\, Sequim\, WA\, 98382\, United States
ORGANIZER;CN="Harmony Center of Sequim":MAILTO:cassandra@joyfulharmony.org
END:VEVENT
BEGIN:VEVENT
DTSTART;TZID=America/Los_Angeles:20250514T123000
DTEND;TZID=America/Los_Angeles:20250514T153000
DTSTAMP:20260420T124922
CREATED:20240906T150914Z
LAST-MODIFIED:20251103T172212Z
UID:10010792-1747225800-1747236600@harmonycentersequim.org
SUMMARY:American Mahjong - Wednesday
DESCRIPTION:  \n  \nIt’s easy to learn the basics of Mahjong. The excitement lies in decisions and strategies in every hand. Learning and playing American Standard Mahjong with enthusiastic players is a treat. Training is available. \nFor more information\, open this pdf file: \nMahj Info
URL:https://harmonycentersequim.org/event/american-mahjong-wednesday/2025-05-14/
LOCATION:Harmony Center Sequim\, 223 Hudon Rd\, Sequim\, WA\, 98382\, United States
CATEGORIES:FUN AND GAMES
ATTACH;FMTTYPE=image/jpeg:https://harmonycentersequim.org/wp-content/uploads/2023/06/mahjong-1.jpg
ORGANIZER;CN="Cindi Hueth - Mahjong":MAILTO:cjhueth@rocketmail.com
END:VEVENT
BEGIN:VEVENT
DTSTART;TZID=America/Los_Angeles:20250513T170000
DTEND;TZID=America/Los_Angeles:20250513T200000
DTSTAMP:20260420T124922
CREATED:20231024T170006Z
LAST-MODIFIED:20250502T205340Z
UID:10005216-1747155600-1747166400@harmonycentersequim.org
SUMMARY:Sequim Bunco Babes!
DESCRIPTION:We are a group of 16 ladies that meet monthly to play a fast and friendly game of Bunco.  We have a great time socializing and sharing snacks with lots of laughter.  If you would like to be on our substitute players list to fill-in when we have a vacancy or to fill a spot when we have attrition\, please click on the event name and provide your name\, number\, and email address.  Cost is $5 per event\, returned to players in the form of prizes.
URL:https://harmonycentersequim.org/event/sequim-bunco-babes/2025-05-13/
LOCATION:Harmony Center Sequim\, 223 Hudon Rd\, Sequim\, WA\, 98382\, United States
CATEGORIES:FUN AND GAMES
ATTACH;FMTTYPE=image/jpeg:https://harmonycentersequim.org/wp-content/uploads/2023/07/JHU-Bunco-Icon.jpg
END:VEVENT
BEGIN:VEVENT
DTSTART;TZID=America/Los_Angeles:20250508T120000
DTEND;TZID=America/Los_Angeles:20250508T140000
DTSTAMP:20260420T124922
CREATED:20240602T212408Z
LAST-MODIFIED:20250313T012344Z
UID:10009212-1746705600-1746712800@harmonycentersequim.org
SUMMARY:Sequim Picklers Bunco
DESCRIPTION:Join this group for monthly Bunco games. \nThis is a private group. Different people host during different months. \nPlease RSVP if you plan to attend.
URL:https://harmonycentersequim.org/event/sequim-picklers-bunco-2/2025-05-08/
LOCATION:Harmony Center Sequim\, 223 Hudon Rd\, Sequim\, WA\, 98382\, United States
ATTACH;FMTTYPE=image/jpeg:https://harmonycentersequim.org/wp-content/uploads/2023/07/JHU-Bunco-Icon.jpg
ORGANIZER;CN="Char Reeves":MAILTO:charreeves0384@outlook.com
END:VEVENT
BEGIN:VEVENT
DTSTART;TZID=America/Los_Angeles:20250507T123000
DTEND;TZID=America/Los_Angeles:20250507T153000
DTSTAMP:20260420T124922
CREATED:20240906T150914Z
LAST-MODIFIED:20251103T172212Z
UID:10010791-1746621000-1746631800@harmonycentersequim.org
SUMMARY:American Mahjong - Wednesday
DESCRIPTION:  \n  \nIt’s easy to learn the basics of Mahjong. The excitement lies in decisions and strategies in every hand. Learning and playing American Standard Mahjong with enthusiastic players is a treat. Training is available. \nFor more information\, open this pdf file: \nMahj Info
URL:https://harmonycentersequim.org/event/american-mahjong-wednesday/2025-05-07/
LOCATION:Harmony Center Sequim\, 223 Hudon Rd\, Sequim\, WA\, 98382\, United States
CATEGORIES:FUN AND GAMES
ATTACH;FMTTYPE=image/jpeg:https://harmonycentersequim.org/wp-content/uploads/2023/06/mahjong-1.jpg
ORGANIZER;CN="Cindi Hueth - Mahjong":MAILTO:cjhueth@rocketmail.com
END:VEVENT
BEGIN:VEVENT
DTSTART;TZID=America/Los_Angeles:20250430T123000
DTEND;TZID=America/Los_Angeles:20250430T153000
DTSTAMP:20260420T124922
CREATED:20240906T150914Z
LAST-MODIFIED:20251103T172212Z
UID:10010790-1746016200-1746027000@harmonycentersequim.org
SUMMARY:American Mahjong - Wednesday
DESCRIPTION:  \n  \nIt’s easy to learn the basics of Mahjong. The excitement lies in decisions and strategies in every hand. Learning and playing American Standard Mahjong with enthusiastic players is a treat. Training is available. \nFor more information\, open this pdf file: \nMahj Info
URL:https://harmonycentersequim.org/event/american-mahjong-wednesday/2025-04-30/
LOCATION:Harmony Center Sequim\, 223 Hudon Rd\, Sequim\, WA\, 98382\, United States
CATEGORIES:FUN AND GAMES
ATTACH;FMTTYPE=image/jpeg:https://harmonycentersequim.org/wp-content/uploads/2023/06/mahjong-1.jpg
ORGANIZER;CN="Cindi Hueth - Mahjong":MAILTO:cjhueth@rocketmail.com
END:VEVENT
BEGIN:VEVENT
DTSTART;TZID=America/Los_Angeles:20250423T123000
DTEND;TZID=America/Los_Angeles:20250423T153000
DTSTAMP:20260420T124922
CREATED:20240906T150914Z
LAST-MODIFIED:20251103T172212Z
UID:10010789-1745411400-1745422200@harmonycentersequim.org
SUMMARY:American Mahjong - Wednesday
DESCRIPTION:  \n  \nIt’s easy to learn the basics of Mahjong. The excitement lies in decisions and strategies in every hand. Learning and playing American Standard Mahjong with enthusiastic players is a treat. Training is available. \nFor more information\, open this pdf file: \nMahj Info
URL:https://harmonycentersequim.org/event/american-mahjong-wednesday/2025-04-23/
LOCATION:Harmony Center Sequim\, 223 Hudon Rd\, Sequim\, WA\, 98382\, United States
CATEGORIES:FUN AND GAMES
ATTACH;FMTTYPE=image/jpeg:https://harmonycentersequim.org/wp-content/uploads/2023/06/mahjong-1.jpg
ORGANIZER;CN="Cindi Hueth - Mahjong":MAILTO:cjhueth@rocketmail.com
END:VEVENT
BEGIN:VEVENT
DTSTART;TZID=America/Los_Angeles:20250416T123000
DTEND;TZID=America/Los_Angeles:20250416T153000
DTSTAMP:20260420T124922
CREATED:20240906T150914Z
LAST-MODIFIED:20251103T172212Z
UID:10010788-1744806600-1744817400@harmonycentersequim.org
SUMMARY:American Mahjong - Wednesday
DESCRIPTION:  \n  \nIt’s easy to learn the basics of Mahjong. The excitement lies in decisions and strategies in every hand. Learning and playing American Standard Mahjong with enthusiastic players is a treat. Training is available. \nFor more information\, open this pdf file: \nMahj Info
URL:https://harmonycentersequim.org/event/american-mahjong-wednesday/2025-04-16/
LOCATION:Harmony Center Sequim\, 223 Hudon Rd\, Sequim\, WA\, 98382\, United States
CATEGORIES:FUN AND GAMES
ATTACH;FMTTYPE=image/jpeg:https://harmonycentersequim.org/wp-content/uploads/2023/06/mahjong-1.jpg
ORGANIZER;CN="Cindi Hueth - Mahjong":MAILTO:cjhueth@rocketmail.com
END:VEVENT
BEGIN:VEVENT
DTSTART;TZID=America/Los_Angeles:20250415T183000
DTEND;TZID=America/Los_Angeles:20250415T193000
DTSTAMP:20260420T124922
CREATED:20230606T211334Z
LAST-MODIFIED:20241013T183847Z
UID:10004626-1744741800-1744745400@harmonycentersequim.org
SUMMARY:TED Circle Tuesday
DESCRIPTION:  \nJoyful Harmony Unlimited joins thousands of other TED Circles to watch and discuss TED Talks.  We consider each other’s perspectives\, discover takeaways\, and create a global conversation. \nYOU can be a force for good!  We have openings to host TED Talk Tuesday. As the host of this event\, you’ll choose a theme of anything that interests you- like happiness\, discoveries\, music\, etc.  Find 2-3 TED talks about your theme.  Get our Zoom link\, show the videos\, and host a discussion of no more than 6 people. \nThis program is presented online to folks attending in CA\, WA and OR. \nContact our office to set a date:  Cassandra@joyfulharmony.org
URL:https://harmonycentersequim.org/event/ted-circle-tuesday-7/2025-04-15/
LOCATION:WA
CATEGORIES:DISCUSSION,TED Circle Tuesday
ATTACH;FMTTYPE=image/jpeg:https://harmonycentersequim.org/wp-content/uploads/2023/06/TED-stage-1-ENbOEw.tmp_.jpg
ORGANIZER;CN="Harmony Center of Sequim":MAILTO:cassandra@joyfulharmony.org
END:VEVENT
BEGIN:VEVENT
DTSTART;TZID=America/Los_Angeles:20250410T120000
DTEND;TZID=America/Los_Angeles:20250410T140000
DTSTAMP:20260420T124922
CREATED:20240602T212408Z
LAST-MODIFIED:20250313T012344Z
UID:10009211-1744286400-1744293600@harmonycentersequim.org
SUMMARY:Sequim Picklers Bunco
DESCRIPTION:Join this group for monthly Bunco games. \nThis is a private group. Different people host during different months. \nPlease RSVP if you plan to attend.
URL:https://harmonycentersequim.org/event/sequim-picklers-bunco-2/2025-04-10/
LOCATION:Harmony Center Sequim\, 223 Hudon Rd\, Sequim\, WA\, 98382\, United States
ATTACH;FMTTYPE=image/jpeg:https://harmonycentersequim.org/wp-content/uploads/2023/07/JHU-Bunco-Icon.jpg
ORGANIZER;CN="Char Reeves":MAILTO:charreeves0384@outlook.com
END:VEVENT
BEGIN:VEVENT
DTSTART;TZID=America/Los_Angeles:20250409T123000
DTEND;TZID=America/Los_Angeles:20250409T153000
DTSTAMP:20260420T124922
CREATED:20240906T150914Z
LAST-MODIFIED:20251103T172212Z
UID:10010787-1744201800-1744212600@harmonycentersequim.org
SUMMARY:American Mahjong - Wednesday
DESCRIPTION:  \n  \nIt’s easy to learn the basics of Mahjong. The excitement lies in decisions and strategies in every hand. Learning and playing American Standard Mahjong with enthusiastic players is a treat. Training is available. \nFor more information\, open this pdf file: \nMahj Info
URL:https://harmonycentersequim.org/event/american-mahjong-wednesday/2025-04-09/
LOCATION:Harmony Center Sequim\, 223 Hudon Rd\, Sequim\, WA\, 98382\, United States
CATEGORIES:FUN AND GAMES
ATTACH;FMTTYPE=image/jpeg:https://harmonycentersequim.org/wp-content/uploads/2023/06/mahjong-1.jpg
ORGANIZER;CN="Cindi Hueth - Mahjong":MAILTO:cjhueth@rocketmail.com
END:VEVENT
BEGIN:VEVENT
DTSTART;TZID=America/Los_Angeles:20250408T170000
DTEND;TZID=America/Los_Angeles:20250408T200000
DTSTAMP:20260420T124922
CREATED:20231024T170006Z
LAST-MODIFIED:20250502T205340Z
UID:10005215-1744131600-1744142400@harmonycentersequim.org
SUMMARY:Sequim Bunco Babes!
DESCRIPTION:We are a group of 16 ladies that meet monthly to play a fast and friendly game of Bunco.  We have a great time socializing and sharing snacks with lots of laughter.  If you would like to be on our substitute players list to fill-in when we have a vacancy or to fill a spot when we have attrition\, please click on the event name and provide your name\, number\, and email address.  Cost is $5 per event\, returned to players in the form of prizes.
URL:https://harmonycentersequim.org/event/sequim-bunco-babes/2025-04-08/
LOCATION:Harmony Center Sequim\, 223 Hudon Rd\, Sequim\, WA\, 98382\, United States
CATEGORIES:FUN AND GAMES
ATTACH;FMTTYPE=image/jpeg:https://harmonycentersequim.org/wp-content/uploads/2023/07/JHU-Bunco-Icon.jpg
END:VEVENT
END:VCALENDAR