BEGIN:VCALENDAR
VERSION:2.0
PRODID:-//Harmony Center Sequim - ECPv6.15.20//NONSGML v1.0//EN
CALSCALE:GREGORIAN
METHOD:PUBLISH
X-WR-CALNAME:Harmony Center Sequim
X-ORIGINAL-URL:https://harmonycentersequim.org
X-WR-CALDESC:Events for Harmony Center Sequim
REFRESH-INTERVAL;VALUE=DURATION:PT1H
X-Robots-Tag:noindex
X-PUBLISHED-TTL:PT1H
BEGIN:VTIMEZONE
TZID:America/Los_Angeles
BEGIN:DAYLIGHT
TZOFFSETFROM:-0800
TZOFFSETTO:-0700
TZNAME:PDT
DTSTART:20210314T100000
END:DAYLIGHT
BEGIN:STANDARD
TZOFFSETFROM:-0700
TZOFFSETTO:-0800
TZNAME:PST
DTSTART:20211107T090000
END:STANDARD
BEGIN:DAYLIGHT
TZOFFSETFROM:-0800
TZOFFSETTO:-0700
TZNAME:PDT
DTSTART:20220313T100000
END:DAYLIGHT
BEGIN:STANDARD
TZOFFSETFROM:-0700
TZOFFSETTO:-0800
TZNAME:PST
DTSTART:20221106T090000
END:STANDARD
BEGIN:DAYLIGHT
TZOFFSETFROM:-0800
TZOFFSETTO:-0700
TZNAME:PDT
DTSTART:20230312T100000
END:DAYLIGHT
BEGIN:STANDARD
TZOFFSETFROM:-0700
TZOFFSETTO:-0800
TZNAME:PST
DTSTART:20231105T090000
END:STANDARD
BEGIN:DAYLIGHT
TZOFFSETFROM:-0800
TZOFFSETTO:-0700
TZNAME:PDT
DTSTART:20240310T100000
END:DAYLIGHT
BEGIN:STANDARD
TZOFFSETFROM:-0700
TZOFFSETTO:-0800
TZNAME:PST
DTSTART:20241103T090000
END:STANDARD
END:VTIMEZONE
BEGIN:VEVENT
DTSTART;TZID=America/Los_Angeles:20231107T183000
DTEND;TZID=America/Los_Angeles:20231107T193000
DTSTAMP:20260424T080722
CREATED:20230606T211314Z
LAST-MODIFIED:20231016T214651Z
UID:10000348-1699381800-1699385400@harmonycentersequim.org
SUMMARY:Tune-Time Tuesday – The Sound of Science
DESCRIPTION:Songs pay tribute to everything in our universe and beyond. Science has beauty\, symmetry\, and mystery. Let’s enjoy the parodies\, tributes\, and love songs for science.  This week in The Sound of Science\, we’ll admire science and scientists. \nJoin us for  The Sound of Science Tune-Time Tuesday. Hosts present a sampling of their favorite songs to spark entertainment and discussion every week.
URL:https://harmonycentersequim.org/event/tune-time-tuesday-the-sound-of-science/
LOCATION:Online- Register for the sign-in link\, WA\, 98382
CATEGORIES:MUSIC,Tune Time Tuesday
ATTACH;FMTTYPE=image/jpeg:https://harmonycentersequim.org/wp-content/uploads/2023/06/science-icon-JGBXeG.tmp_.jpg
ORGANIZER;CN="Harmony Center of Sequim":MAILTO:cassandra@joyfulharmony.org
END:VEVENT
BEGIN:VEVENT
DTSTART;TZID=America/Los_Angeles:20231024T183000
DTEND;TZID=America/Los_Angeles:20231024T193000
DTSTAMP:20260424T080722
CREATED:20220621T002006Z
LAST-MODIFIED:20231016T202208Z
UID:10000034-1698172200-1698175800@harmonycentersequim.org
SUMMARY:Tune-Time Tuesday- Captivating Covers
DESCRIPTION:Artists hear a great song  and feel a personal interpretation. This week in Captivating Covers we’ll hear a tribute to music makers who make it their own. \nJoin us for  Captivating Covers Tune-Time Tuesday. Hosts present a sampling of their favorite songs to spark entertainment and discussion every other week.
URL:https://harmonycentersequim.org/event/tune-time-tuesday-3-3-3/
LOCATION:Online
CATEGORIES:MUSIC,Tune Time Tuesday
ATTACH;FMTTYPE=image/jpeg:https://harmonycentersequim.org/wp-content/uploads/2022/04/JHU-Tune-Time-Covers-icon.jpg
ORGANIZER;CN="Cassandra Cockrill":MAILTO:cassandra@joyfulharmony.org
END:VEVENT
BEGIN:VEVENT
DTSTART;TZID=America/Los_Angeles:20230828T160000
DTEND;TZID=America/Los_Angeles:20230828T180000
DTSTAMP:20260424T080722
CREATED:20230606T211337Z
LAST-MODIFIED:20230606T211337Z
UID:10000385-1693238400-1693245600@harmonycentersequim.org
SUMMARY:SimplyViolinz Rehearsal
DESCRIPTION:SimplyViolinz practice for an all-student concert. This activity is not open to the public.  Contact for special permission to listen to the practice: cassandra@joyfulharmony.org
URL:https://harmonycentersequim.org/event/simplyviolinz-rehearsal-7/
LOCATION:Harmony Center Sequim\, 223 Hudon Rd\, Sequim\, WA\, 98382\, United States
CATEGORIES:MISSION PARTNER,MUSIC
ATTACH;FMTTYPE=image/webp:https://harmonycentersequim.org/wp-content/uploads/2023/06/violin-finger-positions-e1640129936665-5f9iDv.tmp_.webp
ORGANIZER;CN="Harmony Center of Sequim":MAILTO:cassandra@joyfulharmony.org
END:VEVENT
BEGIN:VEVENT
DTSTART;TZID=America/Los_Angeles:20230819T120000
DTEND;TZID=America/Los_Angeles:20230819T143000
DTSTAMP:20260424T080722
CREATED:20230708T205222Z
LAST-MODIFIED:20230724T183808Z
UID:10002770-1692446400-1692455400@harmonycentersequim.org
SUMMARY:Line-dancing performance practice
DESCRIPTION:Great dancers prepare for a performance at the Clallam County Fair. By invitation only.
URL:https://harmonycentersequim.org/event/line-dancing-performance-practice/2023-08-19/
LOCATION:Harmony Center Sequim\, 223 Hudon Rd\, Sequim\, WA\, 98382\, United States
CATEGORIES:ENTERTAINMENT,MUSIC
ATTACH;FMTTYPE=image/jpeg:https://harmonycentersequim.org/wp-content/uploads/2023/07/line-boots.jpg
ORGANIZER;CN="Jerie Louie":MAILTO:jlouie6465@gmail.com
END:VEVENT
BEGIN:VEVENT
DTSTART;TZID=America/Los_Angeles:20230814T160000
DTEND;TZID=America/Los_Angeles:20230814T180000
DTSTAMP:20260424T080722
CREATED:20230606T211333Z
LAST-MODIFIED:20230606T211333Z
UID:10000373-1692028800-1692036000@harmonycentersequim.org
SUMMARY:SimplyViolinz Rehearsal
DESCRIPTION:SimplyViolinz practice for an all-student concert. This activity is not open to the public.  Contact for special permission to listen to the practice: cassandra@joyfulharmony.org
URL:https://harmonycentersequim.org/event/simplyviolinz-rehearsal-6/
LOCATION:Harmony Center Sequim\, 223 Hudon Rd\, Sequim\, WA\, 98382\, United States
CATEGORIES:MISSION PARTNER,MUSIC
ATTACH;FMTTYPE=image/webp:https://harmonycentersequim.org/wp-content/uploads/2023/06/violin-finger-positions-e1640129936665-5f9iDv.tmp_.webp
ORGANIZER;CN="Harmony Center of Sequim":MAILTO:cassandra@joyfulharmony.org
END:VEVENT
BEGIN:VEVENT
DTSTART;TZID=America/Los_Angeles:20230812T120000
DTEND;TZID=America/Los_Angeles:20230812T143000
DTSTAMP:20260424T080722
CREATED:20230708T205222Z
LAST-MODIFIED:20230724T183808Z
UID:10002769-1691841600-1691850600@harmonycentersequim.org
SUMMARY:Line-dancing performance practice
DESCRIPTION:Great dancers prepare for a performance at the Clallam County Fair. By invitation only.
URL:https://harmonycentersequim.org/event/line-dancing-performance-practice/2023-08-12/
LOCATION:Harmony Center Sequim\, 223 Hudon Rd\, Sequim\, WA\, 98382\, United States
CATEGORIES:ENTERTAINMENT,MUSIC
ATTACH;FMTTYPE=image/jpeg:https://harmonycentersequim.org/wp-content/uploads/2023/07/line-boots.jpg
ORGANIZER;CN="Jerie Louie":MAILTO:jlouie6465@gmail.com
END:VEVENT
BEGIN:VEVENT
DTSTART;TZID=America/Los_Angeles:20230805T120000
DTEND;TZID=America/Los_Angeles:20230805T143000
DTSTAMP:20260424T080722
CREATED:20230708T205222Z
LAST-MODIFIED:20230724T183808Z
UID:10002768-1691236800-1691245800@harmonycentersequim.org
SUMMARY:Line-dancing performance practice
DESCRIPTION:Great dancers prepare for a performance at the Clallam County Fair. By invitation only.
URL:https://harmonycentersequim.org/event/line-dancing-performance-practice/2023-08-05/
LOCATION:Harmony Center Sequim\, 223 Hudon Rd\, Sequim\, WA\, 98382\, United States
CATEGORIES:ENTERTAINMENT,MUSIC
ATTACH;FMTTYPE=image/jpeg:https://harmonycentersequim.org/wp-content/uploads/2023/07/line-boots.jpg
ORGANIZER;CN="Jerie Louie":MAILTO:jlouie6465@gmail.com
END:VEVENT
BEGIN:VEVENT
DTSTART;TZID=America/Los_Angeles:20230729T120000
DTEND;TZID=America/Los_Angeles:20230729T143000
DTSTAMP:20260424T080722
CREATED:20230708T205222Z
LAST-MODIFIED:20230724T183808Z
UID:10002767-1690632000-1690641000@harmonycentersequim.org
SUMMARY:Line-dancing performance practice
DESCRIPTION:Great dancers prepare for a performance at the Clallam County Fair. By invitation only.
URL:https://harmonycentersequim.org/event/line-dancing-performance-practice/2023-07-29/
LOCATION:Harmony Center Sequim\, 223 Hudon Rd\, Sequim\, WA\, 98382\, United States
CATEGORIES:ENTERTAINMENT,MUSIC
ATTACH;FMTTYPE=image/jpeg:https://harmonycentersequim.org/wp-content/uploads/2023/07/line-boots.jpg
ORGANIZER;CN="Jerie Louie":MAILTO:jlouie6465@gmail.com
END:VEVENT
BEGIN:VEVENT
DTSTART;TZID=America/Los_Angeles:20230724T160000
DTEND;TZID=America/Los_Angeles:20230724T180000
DTSTAMP:20260424T080722
CREATED:20230606T211328Z
LAST-MODIFIED:20230606T211328Z
UID:10000358-1690214400-1690221600@harmonycentersequim.org
SUMMARY:SimplyViolinz Rehearsal
DESCRIPTION:SimplyViolinz practice for an all-student concert. This activity is not open to the public.  Contact for special permission to listen to the practice: cassandra@joyfulharmony.org
URL:https://harmonycentersequim.org/event/simplyviolinz-rehearsal-5/
LOCATION:Harmony Center Sequim\, 223 Hudon Rd\, Sequim\, WA\, 98382\, United States
CATEGORIES:MISSION PARTNER,MUSIC
ATTACH;FMTTYPE=image/webp:https://harmonycentersequim.org/wp-content/uploads/2023/06/violin-finger-positions-e1640129936665-5f9iDv.tmp_.webp
ORGANIZER;CN="Harmony Center of Sequim":MAILTO:cassandra@joyfulharmony.org
END:VEVENT
BEGIN:VEVENT
DTSTART;TZID=America/Los_Angeles:20230722T120000
DTEND;TZID=America/Los_Angeles:20230722T143000
DTSTAMP:20260424T080722
CREATED:20230708T205222Z
LAST-MODIFIED:20230724T183808Z
UID:10002766-1690027200-1690036200@harmonycentersequim.org
SUMMARY:Line-dancing performance practice
DESCRIPTION:Great dancers prepare for a performance at the Clallam County Fair. By invitation only.
URL:https://harmonycentersequim.org/event/line-dancing-performance-practice/2023-07-22/
LOCATION:Harmony Center Sequim\, 223 Hudon Rd\, Sequim\, WA\, 98382\, United States
CATEGORIES:ENTERTAINMENT,MUSIC
ATTACH;FMTTYPE=image/jpeg:https://harmonycentersequim.org/wp-content/uploads/2023/07/line-boots.jpg
ORGANIZER;CN="Jerie Louie":MAILTO:jlouie6465@gmail.com
END:VEVENT
BEGIN:VEVENT
DTSTART;TZID=America/Los_Angeles:20230715T120000
DTEND;TZID=America/Los_Angeles:20230715T143000
DTSTAMP:20260424T080722
CREATED:20230708T205222Z
LAST-MODIFIED:20230724T183808Z
UID:10002757-1689422400-1689431400@harmonycentersequim.org
SUMMARY:Line-dancing performance practice
DESCRIPTION:Great dancers prepare for a performance at the Clallam County Fair. By invitation only.
URL:https://harmonycentersequim.org/event/line-dancing-performance-practice/2023-07-15/2/
LOCATION:Harmony Center Sequim\, 223 Hudon Rd\, Sequim\, WA\, 98382\, United States
CATEGORIES:ENTERTAINMENT,MUSIC
ATTACH;FMTTYPE=image/jpeg:https://harmonycentersequim.org/wp-content/uploads/2023/07/line-boots.jpg
ORGANIZER;CN="Jerie Louie":MAILTO:jlouie6465@gmail.com
END:VEVENT
BEGIN:VEVENT
DTSTART;TZID=America/Los_Angeles:20230715T080000
DTEND;TZID=America/Los_Angeles:20230715T170000
DTSTAMP:20260424T080722
CREATED:20230708T205222Z
LAST-MODIFIED:20230724T183808Z
UID:10002765-1689408000-1689440400@harmonycentersequim.org
SUMMARY:Line-dancing performance practice
DESCRIPTION:Great dancers prepare for a performance at the Clallam County Fair. By invitation only.
URL:https://harmonycentersequim.org/event/line-dancing-performance-practice/2023-07-15/1/
LOCATION:Harmony Center Sequim\, 223 Hudon Rd\, Sequim\, WA\, 98382\, United States
CATEGORIES:ENTERTAINMENT,MUSIC
ATTACH;FMTTYPE=image/jpeg:https://harmonycentersequim.org/wp-content/uploads/2023/07/line-boots.jpg
ORGANIZER;CN="Jerie Louie":MAILTO:jlouie6465@gmail.com
END:VEVENT
BEGIN:VEVENT
DTSTART;TZID=America/Los_Angeles:20230710T160000
DTEND;TZID=America/Los_Angeles:20230710T180000
DTSTAMP:20260424T080722
CREATED:20230606T211313Z
LAST-MODIFIED:20230710T192941Z
UID:10000346-1689004800-1689012000@harmonycentersequim.org
SUMMARY:SimplyViolinz Rehearsal
DESCRIPTION:SimplyViolinz practice for an all-student concert. This activity is not open to the public.  Contact for special permission to listen to the practice: cassandra@joyfulharmony.org
URL:https://harmonycentersequim.org/event/simplyviolinz-rehearsal-4/
LOCATION:Harmony Center Sequim\, 223 Hudon Rd\, Sequim\, WA\, 98382\, United States
CATEGORIES:MISSION PARTNER,MUSIC
ATTACH;FMTTYPE=image/webp:https://harmonycentersequim.org/wp-content/uploads/2023/06/violin-finger-positions-e1640129936665-5f9iDv.tmp_.webp
ORGANIZER;CN="Harmony Center of Sequim":MAILTO:cassandra@joyfulharmony.org
END:VEVENT
BEGIN:VEVENT
DTSTART;TZID=America/Los_Angeles:20230627T183000
DTEND;TZID=America/Los_Angeles:20230627T193000
DTSTAMP:20260424T080722
CREATED:20230606T211310Z
LAST-MODIFIED:20230614T030326Z
UID:10000337-1687890600-1687894200@harmonycentersequim.org
SUMMARY:Tune-Time Tuesday – Protest Songs
DESCRIPTION:Protest Songs are associated with movements for social change.   They’re a call to action about cultural issues that matter.  In tonight’s Tune-Time\, hear songs that spark discussion\, passion\, and progress.  Join us for Music that Matters – Patriotic Songs during Tune-Time Tuesday. \n  \n.
URL:https://harmonycentersequim.org/event/tune-time-tuesday-protest-songs/
LOCATION:223 Hudon Rd\, Sequim\, WA\, 98382\, United States
CATEGORIES:MUSIC,Tune Time Tuesday
ATTACH;FMTTYPE=image/jpeg:https://harmonycentersequim.org/wp-content/uploads/2023/06/protest-songs.jpg
ORGANIZER;CN="Joyful Harmony of Oakland":MAILTO:daniel@joyfulharmony.org
END:VEVENT
BEGIN:VEVENT
DTSTART;TZID=America/Los_Angeles:20230626T160000
DTEND;TZID=America/Los_Angeles:20230626T180000
DTSTAMP:20260424T080722
CREATED:20230606T211310Z
LAST-MODIFIED:20230606T211310Z
UID:10000335-1687795200-1687802400@harmonycentersequim.org
SUMMARY:SimplyViolinz Rehearsal
DESCRIPTION:SimplyViolinz practice for an all-student concert. This activity is not open to the public.  Contact for special permission to listen to the practice: cassandra@joyfulharmony.org
URL:https://harmonycentersequim.org/event/simplyviolinz-rehearsal-3/
LOCATION:Harmony Center Sequim\, 223 Hudon Rd\, Sequim\, WA\, 98382\, United States
CATEGORIES:MISSION PARTNER,MUSIC
ATTACH;FMTTYPE=image/webp:https://harmonycentersequim.org/wp-content/uploads/2023/06/violin-finger-positions-e1640129936665-5f9iDv.tmp_.webp
ORGANIZER;CN="Harmony Center of Sequim":MAILTO:cassandra@joyfulharmony.org
END:VEVENT
BEGIN:VEVENT
DTSTART;TZID=America/Los_Angeles:20230619T160000
DTEND;TZID=America/Los_Angeles:20230619T180000
DTSTAMP:20260424T080722
CREATED:20230614T004616Z
LAST-MODIFIED:20230614T004616Z
UID:10000399-1687190400-1687197600@harmonycentersequim.org
SUMMARY:SimplyViolinz Rehearsal
DESCRIPTION:SimplyViolinz practice for an all-student concert. This activity is not open to the public.  Contact for special permission to listen to the practice: cassandra@joyfulharmony.org
URL:https://harmonycentersequim.org/event/simplyviolinz-rehearsal-8/
LOCATION:Harmony Center Sequim\, 223 Hudon Rd\, Sequim\, WA\, 98382\, United States
CATEGORIES:MISSION PARTNER,MUSIC
ATTACH;FMTTYPE=image/webp:https://harmonycentersequim.org/wp-content/uploads/2023/06/violin-finger-positions-e1640129936665-5f9iDv.tmp_.webp
ORGANIZER;CN="Harmony Center of Sequim":MAILTO:cassandra@joyfulharmony.org
END:VEVENT
BEGIN:VEVENT
DTSTART;TZID=America/Los_Angeles:20230613T183000
DTEND;TZID=America/Los_Angeles:20230613T193000
DTSTAMP:20260424T080722
CREATED:20230606T211303Z
LAST-MODIFIED:20230606T211303Z
UID:10000324-1686681000-1686684600@harmonycentersequim.org
SUMMARY:Tune-Time Tuesday – Rhythm and Blues
DESCRIPTION:This week we connect to the world of  Rhythm and Blues. Join us to hear favorites from the 1940s to today during Rhythm and Blues Tune-Time Tuesday. \nTune-Time Tuesday hosts present a sampling of their favorite songs to spark entertainment and discussion every week.  Ask about hosting!
URL:https://harmonycentersequim.org/event/tune-time-tuesday-rhythm-and-blues/
LOCATION:223 Hudon Rd\, Sequim\, WA\, 98382\, United States
CATEGORIES:MUSIC,Tune Time Tuesday
ATTACH;FMTTYPE=image/jpeg:https://harmonycentersequim.org/wp-content/uploads/2023/06/JHU-TT-R-and-B-icin-XTUkAr.tmp_.jpg
ORGANIZER;CN="Joyful Harmony of Oakland":MAILTO:daniel@joyfulharmony.org
END:VEVENT
BEGIN:VEVENT
DTSTART;TZID=America/Los_Angeles:20230612T160000
DTEND;TZID=America/Los_Angeles:20230612T180000
DTSTAMP:20260424T080722
CREATED:20230606T211302Z
LAST-MODIFIED:20230606T211302Z
UID:10000322-1686585600-1686592800@harmonycentersequim.org
SUMMARY:SimplyViolinz Rehearsal
DESCRIPTION:SimplyViolinz practice for an all-student concert. This activity is not open to the public.  Contact for special permission to listen to the practice: cassandra@joyfulharmony.org
URL:https://harmonycentersequim.org/event/simplyviolinz-rehearsal-2/
LOCATION:Harmony Center Sequim\, 223 Hudon Rd\, Sequim\, WA\, 98382\, United States
CATEGORIES:MISSION PARTNER,MUSIC
ATTACH;FMTTYPE=image/webp:https://harmonycentersequim.org/wp-content/uploads/2023/06/violin-finger-positions-e1640129936665-5f9iDv.tmp_.webp
ORGANIZER;CN="Harmony Center of Sequim":MAILTO:cassandra@joyfulharmony.org
END:VEVENT
BEGIN:VEVENT
DTSTART;TZID=America/Los_Angeles:20221213T153000
DTEND;TZID=America/Los_Angeles:20221213T180000
DTSTAMP:20260424T080722
CREATED:20221102T012442Z
LAST-MODIFIED:20221102T012558Z
UID:10000313-1670945400-1670954400@harmonycentersequim.org
SUMMARY:SimplyViolinz Rehearsal
DESCRIPTION:SimplyViolinz practice for an all-student concert. This activity is not open to the public.
URL:https://harmonycentersequim.org/event/simplyviolinz-rehersal-4-2-2-3-2/
LOCATION:Harmony Center Sequim\, 223 Hudon Rd\, Sequim\, WA\, 98382\, United States
CATEGORIES:MISSION PARTNER,MUSIC
ORGANIZER;CN="Harmony Center of Sequim":MAILTO:cassandra@joyfulharmony.org
END:VEVENT
BEGIN:VEVENT
DTSTART;TZID=America/Los_Angeles:20221129T183000
DTEND;TZID=America/Los_Angeles:20221129T193000
DTSTAMP:20260424T080722
CREATED:20231016T220129Z
LAST-MODIFIED:20231016T220144Z
UID:10004668-1669746600-1669750200@harmonycentersequim.org
SUMMARY:Tune-Time Tuesday - Harmony
DESCRIPTION:In it’s most basic form\, harmony is the sound of two or more notes heard simultaneously. To achieve this\, singers merge art with others.  They focus on the collective vibration and (literally) breath together.   This week in Harmony Heaven\, we’ll hear a tribute to collaboration. \nJoin us for  Harmony Heaven Tune-Time Tuesday. Hosts present a sampling of their favorite songs to spark entertainment and discussion every week. \nTHIS EVENT IS SOLD OUT.  We’ll schedule another date next year.  Thank you for your interest
URL:https://harmonycentersequim.org/event/tune-time-tuesday-harmony/
LOCATION:Online- Register for the sign-in link\, WA\, 98382
CATEGORIES:MUSIC,Tune Time Tuesday
ATTACH;FMTTYPE=image/jpeg:https://harmonycentersequim.org/wp-content/uploads/2016/09/HARMONY-LOGO-e1442080191229.jpg
ORGANIZER;CN="Harmony Center of Sequim":MAILTO:cassandra@joyfulharmony.org
END:VEVENT
BEGIN:VEVENT
DTSTART;TZID=America/Los_Angeles:20221126T190000
DTEND;TZID=America/Los_Angeles:20221126T203000
DTSTAMP:20260424T080722
CREATED:20221015T042654Z
LAST-MODIFIED:20221015T045038Z
UID:10000063-1669489200-1669494600@harmonycentersequim.org
SUMMARY:SimplyViolinz First Concert — for Family and Friends 
DESCRIPTION:This SimplyViolinz all-student concert features a talented ensemble of students proud to entertain friends and family.
URL:https://harmonycentersequim.org/event/simplyviolinz-rehersal-4-2-2-2/
LOCATION:Harmony Center Sequim\, 223 Hudon Rd\, Sequim\, WA\, 98382\, United States
CATEGORIES:MISSION PARTNER,MUSIC
ATTACH;FMTTYPE=image/jpeg:https://harmonycentersequim.org/wp-content/uploads/2022/08/simplyvioliz-cloth.jpg
ORGANIZER;CN="Harmony Center of Sequim":MAILTO:cassandra@joyfulharmony.org
END:VEVENT
BEGIN:VEVENT
DTSTART;TZID=America/Los_Angeles:20221122T160000
DTEND;TZID=America/Los_Angeles:20221122T180000
DTSTAMP:20260424T080722
CREATED:20221026T211307Z
LAST-MODIFIED:20221102T022015Z
UID:10000305-1669132800-1669140000@harmonycentersequim.org
SUMMARY:SimplyViolinz Rehearsal
DESCRIPTION:SimplyViolinz practice for an all-student concert. This activity is not open to the public.
URL:https://harmonycentersequim.org/event/simplyviolinz-rehersal-4-2-2-3/2022-11-22/
LOCATION:Harmony Center Sequim\, 223 Hudon Rd\, Sequim\, WA\, 98382\, United States
CATEGORIES:MISSION PARTNER,MUSIC
ATTACH;FMTTYPE=image/jpeg:https://harmonycentersequim.org/wp-content/uploads/2022/08/simplyvioliz-cloth.jpg
ORGANIZER;CN="Harmony Center of Sequim":MAILTO:cassandra@joyfulharmony.org
END:VEVENT
BEGIN:VEVENT
DTSTART;TZID=America/Los_Angeles:20221115T160000
DTEND;TZID=America/Los_Angeles:20221115T180000
DTSTAMP:20260424T080722
CREATED:20260424T080358Z
LAST-MODIFIED:20260424T080358Z
UID:10012167-1668528000-1668535200@harmonycentersequim.org
SUMMARY:SimplyViolinz Rehearsal
DESCRIPTION:SimplyViolinz practice for an all-student concert. This activity is not open to the public.
URL:https://harmonycentersequim.org/event/simplyviolinz-rehearsal-1291/
LOCATION:Harmony Center Sequim\, 223 Hudon Rd\, Sequim\, WA\, 98382\, United States
CATEGORIES:MISSION PARTNER,MUSIC
ATTACH;FMTTYPE=image/jpeg:https://harmonycentersequim.org/wp-content/uploads/2022/08/simplyvioliz-cloth.jpg
ORGANIZER;CN="Harmony Center of Sequim":MAILTO:cassandra@joyfulharmony.org
END:VEVENT
BEGIN:VEVENT
DTSTART;TZID=America/Los_Angeles:20221115T160000
DTEND;TZID=America/Los_Angeles:20221115T180000
DTSTAMP:20260424T080722
CREATED:20260423T200428Z
LAST-MODIFIED:20260423T200428Z
UID:10012166-1668528000-1668535200@harmonycentersequim.org
SUMMARY:SimplyViolinz Rehearsal
DESCRIPTION:SimplyViolinz practice for an all-student concert. This activity is not open to the public.
URL:https://harmonycentersequim.org/event/simplyviolinz-rehearsal-1290/
LOCATION:Harmony Center Sequim\, 223 Hudon Rd\, Sequim\, WA\, 98382\, United States
CATEGORIES:MISSION PARTNER,MUSIC
ATTACH;FMTTYPE=image/jpeg:https://harmonycentersequim.org/wp-content/uploads/2022/08/simplyvioliz-cloth.jpg
ORGANIZER;CN="Harmony Center of Sequim":MAILTO:cassandra@joyfulharmony.org
END:VEVENT
BEGIN:VEVENT
DTSTART;TZID=America/Los_Angeles:20221115T160000
DTEND;TZID=America/Los_Angeles:20221115T180000
DTSTAMP:20260424T080722
CREATED:20260423T080359Z
LAST-MODIFIED:20260423T080359Z
UID:10012165-1668528000-1668535200@harmonycentersequim.org
SUMMARY:SimplyViolinz Rehearsal
DESCRIPTION:SimplyViolinz practice for an all-student concert. This activity is not open to the public.
URL:https://harmonycentersequim.org/event/simplyviolinz-rehearsal-1289/
LOCATION:Harmony Center Sequim\, 223 Hudon Rd\, Sequim\, WA\, 98382\, United States
CATEGORIES:MISSION PARTNER,MUSIC
ATTACH;FMTTYPE=image/jpeg:https://harmonycentersequim.org/wp-content/uploads/2022/08/simplyvioliz-cloth.jpg
ORGANIZER;CN="Harmony Center of Sequim":MAILTO:cassandra@joyfulharmony.org
END:VEVENT
BEGIN:VEVENT
DTSTART;TZID=America/Los_Angeles:20221115T160000
DTEND;TZID=America/Los_Angeles:20221115T180000
DTSTAMP:20260424T080722
CREATED:20260422T200356Z
LAST-MODIFIED:20260422T200356Z
UID:10012164-1668528000-1668535200@harmonycentersequim.org
SUMMARY:SimplyViolinz Rehearsal
DESCRIPTION:SimplyViolinz practice for an all-student concert. This activity is not open to the public.
URL:https://harmonycentersequim.org/event/simplyviolinz-rehearsal-1288/
LOCATION:Harmony Center Sequim\, 223 Hudon Rd\, Sequim\, WA\, 98382\, United States
CATEGORIES:MISSION PARTNER,MUSIC
ATTACH;FMTTYPE=image/jpeg:https://harmonycentersequim.org/wp-content/uploads/2022/08/simplyvioliz-cloth.jpg
ORGANIZER;CN="Harmony Center of Sequim":MAILTO:cassandra@joyfulharmony.org
END:VEVENT
BEGIN:VEVENT
DTSTART;TZID=America/Los_Angeles:20221115T160000
DTEND;TZID=America/Los_Angeles:20221115T180000
DTSTAMP:20260424T080722
CREATED:20260422T080400Z
LAST-MODIFIED:20260422T080400Z
UID:10012163-1668528000-1668535200@harmonycentersequim.org
SUMMARY:SimplyViolinz Rehearsal
DESCRIPTION:SimplyViolinz practice for an all-student concert. This activity is not open to the public.
URL:https://harmonycentersequim.org/event/simplyviolinz-rehearsal-1287/
LOCATION:Harmony Center Sequim\, 223 Hudon Rd\, Sequim\, WA\, 98382\, United States
CATEGORIES:MISSION PARTNER,MUSIC
ATTACH;FMTTYPE=image/jpeg:https://harmonycentersequim.org/wp-content/uploads/2022/08/simplyvioliz-cloth.jpg
ORGANIZER;CN="Harmony Center of Sequim":MAILTO:cassandra@joyfulharmony.org
END:VEVENT
BEGIN:VEVENT
DTSTART;TZID=America/Los_Angeles:20221115T160000
DTEND;TZID=America/Los_Angeles:20221115T180000
DTSTAMP:20260424T080722
CREATED:20260421T200357Z
LAST-MODIFIED:20260421T200357Z
UID:10012162-1668528000-1668535200@harmonycentersequim.org
SUMMARY:SimplyViolinz Rehearsal
DESCRIPTION:SimplyViolinz practice for an all-student concert. This activity is not open to the public.
URL:https://harmonycentersequim.org/event/simplyviolinz-rehearsal-1286/
LOCATION:Harmony Center Sequim\, 223 Hudon Rd\, Sequim\, WA\, 98382\, United States
CATEGORIES:MISSION PARTNER,MUSIC
ATTACH;FMTTYPE=image/jpeg:https://harmonycentersequim.org/wp-content/uploads/2022/08/simplyvioliz-cloth.jpg
ORGANIZER;CN="Harmony Center of Sequim":MAILTO:cassandra@joyfulharmony.org
END:VEVENT
BEGIN:VEVENT
DTSTART;TZID=America/Los_Angeles:20221115T160000
DTEND;TZID=America/Los_Angeles:20221115T180000
DTSTAMP:20260424T080722
CREATED:20260421T080359Z
LAST-MODIFIED:20260421T080359Z
UID:10012161-1668528000-1668535200@harmonycentersequim.org
SUMMARY:SimplyViolinz Rehearsal
DESCRIPTION:SimplyViolinz practice for an all-student concert. This activity is not open to the public.
URL:https://harmonycentersequim.org/event/simplyviolinz-rehearsal-1285/
LOCATION:Harmony Center Sequim\, 223 Hudon Rd\, Sequim\, WA\, 98382\, United States
CATEGORIES:MISSION PARTNER,MUSIC
ATTACH;FMTTYPE=image/jpeg:https://harmonycentersequim.org/wp-content/uploads/2022/08/simplyvioliz-cloth.jpg
ORGANIZER;CN="Harmony Center of Sequim":MAILTO:cassandra@joyfulharmony.org
END:VEVENT
BEGIN:VEVENT
DTSTART;TZID=America/Los_Angeles:20221115T160000
DTEND;TZID=America/Los_Angeles:20221115T180000
DTSTAMP:20260424T080722
CREATED:20260420T200402Z
LAST-MODIFIED:20260420T200402Z
UID:10012160-1668528000-1668535200@harmonycentersequim.org
SUMMARY:SimplyViolinz Rehearsal
DESCRIPTION:SimplyViolinz practice for an all-student concert. This activity is not open to the public.
URL:https://harmonycentersequim.org/event/simplyviolinz-rehearsal-1284/
LOCATION:Harmony Center Sequim\, 223 Hudon Rd\, Sequim\, WA\, 98382\, United States
CATEGORIES:MISSION PARTNER,MUSIC
ATTACH;FMTTYPE=image/jpeg:https://harmonycentersequim.org/wp-content/uploads/2022/08/simplyvioliz-cloth.jpg
ORGANIZER;CN="Harmony Center of Sequim":MAILTO:cassandra@joyfulharmony.org
END:VEVENT
END:VCALENDAR